BEGIN:VCALENDAR
VERSION:2.0
PRODID:-//Spring Lake Heights New Jersey - ECPv6.15.3//NONSGML v1.0//EN
CALSCALE:GREGORIAN
METHOD:PUBLISH
X-WR-CALNAME:Spring Lake Heights New Jersey
X-ORIGINAL-URL:https://springlakehts.com
X-WR-CALDESC:Events for Spring Lake Heights New Jersey
REFRESH-INTERVAL;VALUE=DURATION:PT1H
X-Robots-Tag:noindex
X-PUBLISHED-TTL:PT1H
BEGIN:VTIMEZONE
TZID:America/New_York
BEGIN:DAYLIGHT
TZOFFSETFROM:-0500
TZOFFSETTO:-0400
TZNAME:EDT
DTSTART:20220313T070000
END:DAYLIGHT
BEGIN:STANDARD
TZOFFSETFROM:-0400
TZOFFSETTO:-0500
TZNAME:EST
DTSTART:20221106T060000
END:STANDARD
BEGIN:DAYLIGHT
TZOFFSETFROM:-0500
TZOFFSETTO:-0400
TZNAME:EDT
DTSTART:20230312T070000
END:DAYLIGHT
BEGIN:STANDARD
TZOFFSETFROM:-0400
TZOFFSETTO:-0500
TZNAME:EST
DTSTART:20231105T060000
END:STANDARD
BEGIN:DAYLIGHT
TZOFFSETFROM:-0500
TZOFFSETTO:-0400
TZNAME:EDT
DTSTART:20240310T070000
END:DAYLIGHT
BEGIN:STANDARD
TZOFFSETFROM:-0400
TZOFFSETTO:-0500
TZNAME:EST
DTSTART:20241103T060000
END:STANDARD
END:VTIMEZONE
BEGIN:VEVENT
DTSTART;TZID=America/New_York:20241015T190000
DTEND;TZID=America/New_York:20241015T190000
DTSTAMP:20260424T115840
CREATED:20241011T184430Z
LAST-MODIFIED:20241011T184607Z
UID:6326-1729018800-1729018800@springlakehts.com
SUMMARY:Board of Health - Meeting Cancelled
DESCRIPTION:10/15/2024 Meeting Cancelled Notice (pdf)
URL:https://springlakehts.com/event/board-of-health-meeting-cancelled/
LOCATION:Municipal Building\, 555 Brighton Avenue\, Sprink Lake Heights\, NJ\, United States
CATEGORIES:Board of Health
END:VEVENT
BEGIN:VEVENT
DTSTART;TZID=America/New_York:20230124T180000
DTEND;TZID=America/New_York:20230124T180000
DTSTAMP:20260424T115840
CREATED:20220128T165414Z
LAST-MODIFIED:20230117T174706Z
UID:2830-1674583200-1674583200@springlakehts.com
SUMMARY:Board of Health Meeting
DESCRIPTION:Board of Health SLH \nPlease join my meeting from your computer\, tablet or smartphone.\nhttps://meet.goto.com/606167725 \nYou can also dial in using your phone.\nAccess Code: 606-167-725\nUnited States (Toll Free): 1 866 899 4679\nUnited States: +1 (571) 317-3116 \nGet the app now and be ready when your first meeting starts:\nhttps://meet.goto.com/install
URL:https://springlakehts.com/event/board-of-health-meeting-5/
LOCATION:Virtual
CATEGORIES:Board of Health
END:VEVENT
BEGIN:VEVENT
DTSTART;TZID=America/New_York:20221018T180000
DTEND;TZID=America/New_York:20221018T180000
DTSTAMP:20260424T115840
CREATED:20220128T165042Z
LAST-MODIFIED:20220128T165042Z
UID:2828-1666116000-1666116000@springlakehts.com
SUMMARY:Board of Health Meeting
DESCRIPTION:
URL:https://springlakehts.com/event/board-of-health-meeting-4/
LOCATION:To Be Determined
CATEGORIES:Board of Health
END:VEVENT
BEGIN:VEVENT
DTSTART;TZID=America/New_York:20220719T180000
DTEND;TZID=America/New_York:20220719T180000
DTSTAMP:20260424T115840
CREATED:20220128T164718Z
LAST-MODIFIED:20220719T184632Z
UID:2826-1658253600-1658253600@springlakehts.com
SUMMARY:Board of Health Meeting - Cancelled
DESCRIPTION:
URL:https://springlakehts.com/event/board-of-health-meeting-3/
LOCATION:To Be Determined
CATEGORIES:Board of Health
END:VEVENT
BEGIN:VEVENT
DTSTART;TZID=America/New_York:20220426T180000
DTEND;TZID=America/New_York:20220426T180000
DTSTAMP:20260424T115840
CREATED:20220128T164631Z
LAST-MODIFIED:20220128T164631Z
UID:2824-1650996000-1650996000@springlakehts.com
SUMMARY:Board of Health Meeting
DESCRIPTION:
URL:https://springlakehts.com/event/board-of-health-meeting-2/
LOCATION:To Be Determined
CATEGORIES:Board of Health
END:VEVENT
BEGIN:VEVENT
DTSTART;TZID=America/New_York:20220125T180000
DTEND;TZID=America/New_York:20220125T180000
DTSTAMP:20260424T115840
CREATED:20220114T194643Z
LAST-MODIFIED:20220114T194643Z
UID:2759-1643133600-1643133600@springlakehts.com
SUMMARY:Board of Health Meeting
DESCRIPTION:
URL:https://springlakehts.com/event/board-of-health-meeting/
LOCATION:Municipal Building\, 555 Brighton Avenue\, Sprink Lake Heights\, NJ\, United States
CATEGORIES:Board of Health
END:VEVENT
END:VCALENDAR