BEGIN:VCALENDAR
VERSION:2.0
PRODID:-//Spring Lake Heights New Jersey - ECPv6.15.3//NONSGML v1.0//EN
CALSCALE:GREGORIAN
METHOD:PUBLISH
X-ORIGINAL-URL:https://springlakehts.com
X-WR-CALDESC:Events for Spring Lake Heights New Jersey
REFRESH-INTERVAL;VALUE=DURATION:PT1H
X-Robots-Tag:noindex
X-PUBLISHED-TTL:PT1H
BEGIN:VTIMEZONE
TZID:America/New_York
BEGIN:DAYLIGHT
TZOFFSETFROM:-0500
TZOFFSETTO:-0400
TZNAME:EDT
DTSTART:20240310T070000
END:DAYLIGHT
BEGIN:STANDARD
TZOFFSETFROM:-0400
TZOFFSETTO:-0500
TZNAME:EST
DTSTART:20241103T060000
END:STANDARD
END:VTIMEZONE
BEGIN:VEVENT
DTSTART;TZID=America/New_York:20241007T190000
DTEND;TZID=America/New_York:20241007T190000
DTSTAMP:20260425T092013
CREATED:20240213T180546Z
LAST-MODIFIED:20240213T180546Z
UID:5368-1728327600-1728327600@springlakehts.com
SUMMARY:Borough Council Meeting
DESCRIPTION:
URL:https://springlakehts.com/event/borough-council-meeting-52/
LOCATION:Municipal Building\, 555 Brighton Avenue\, Sprink Lake Heights\, NJ\, United States
CATEGORIES:Borough Council Meetings
END:VEVENT
BEGIN:VEVENT
DTSTART;TZID=America/New_York:20241021T190000
DTEND;TZID=America/New_York:20241021T190000
DTSTAMP:20260425T092013
CREATED:20240213T180627Z
LAST-MODIFIED:20240213T180627Z
UID:5370-1729537200-1729537200@springlakehts.com
SUMMARY:Borough Council Meeting
DESCRIPTION:
URL:https://springlakehts.com/event/borough-council-meeting-53/
LOCATION:Municipal Building\, 555 Brighton Avenue\, Sprink Lake Heights\, NJ\, United States
CATEGORIES:Borough Council Meetings
END:VEVENT
END:VCALENDAR