BEGIN:VCALENDAR
VERSION:2.0
PRODID:-//Spring Lake Heights New Jersey - ECPv6.15.3//NONSGML v1.0//EN
CALSCALE:GREGORIAN
METHOD:PUBLISH
X-ORIGINAL-URL:https://springlakehts.com
X-WR-CALDESC:Events for Spring Lake Heights New Jersey
REFRESH-INTERVAL;VALUE=DURATION:PT1H
X-Robots-Tag:noindex
X-PUBLISHED-TTL:PT1H
BEGIN:VTIMEZONE
TZID:America/New_York
BEGIN:DAYLIGHT
TZOFFSETFROM:-0500
TZOFFSETTO:-0400
TZNAME:EDT
DTSTART:20250309T070000
END:DAYLIGHT
BEGIN:STANDARD
TZOFFSETFROM:-0400
TZOFFSETTO:-0500
TZNAME:EST
DTSTART:20251102T060000
END:STANDARD
BEGIN:DAYLIGHT
TZOFFSETFROM:-0500
TZOFFSETTO:-0400
TZNAME:EDT
DTSTART:20260308T070000
END:DAYLIGHT
BEGIN:STANDARD
TZOFFSETFROM:-0400
TZOFFSETTO:-0500
TZNAME:EST
DTSTART:20261101T060000
END:STANDARD
END:VTIMEZONE
BEGIN:VEVENT
DTSTART;VALUE=DATE:20250217
DTEND;VALUE=DATE:20250218
DTSTAMP:20260425T172941
CREATED:20250110T184725Z
LAST-MODIFIED:20250110T184725Z
UID:6555-1739750400-1739836799@springlakehts.com
SUMMARY:Holiday – Offices Closed
DESCRIPTION:
URL:https://springlakehts.com/event/holiday-offices-closed-32/
CATEGORIES:General Events
END:VEVENT
BEGIN:VEVENT
DTSTART;TZID=America/New_York:20250402T130000
DTEND;TZID=America/New_York:20250402T130000
DTSTAMP:20260425T172941
CREATED:20250204T203558Z
LAST-MODIFIED:20250204T203558Z
UID:6733-1743598800-1743598800@springlakehts.com
SUMMARY:New Jersey Property Tax Relief Presentation
DESCRIPTION:
URL:https://springlakehts.com/event/new-jersey-property-tax-relief-presentation/
LOCATION:Cornelius V. Kelly Community Center\, 902 Ocean Rd\, Spring Lake Heights\, NJ\, 07762\, United States
CATEGORIES:General Events
END:VEVENT
BEGIN:VEVENT
DTSTART;TZID=America/New_York:20250414T190000
DTEND;TZID=America/New_York:20250418T040000
DTSTAMP:20260425T172941
CREATED:20250110T205948Z
LAST-MODIFIED:20250321T144601Z
UID:6610-1744657200-1744948800@springlakehts.com
SUMMARY:Water Main & Hydrant Flushing (M-F 7:00pm - 4:00am)
DESCRIPTION:
URL:https://springlakehts.com/event/water-main-hydrant-flushing-m-f-700pm-400am/
CATEGORIES:General Events
END:VEVENT
BEGIN:VEVENT
DTSTART;VALUE=DATE:20250418
DTEND;VALUE=DATE:20250419
DTSTAMP:20260425T172941
CREATED:20250110T205709Z
LAST-MODIFIED:20250110T205709Z
UID:6608-1744934400-1745020799@springlakehts.com
SUMMARY:Holiday – Offices Closed
DESCRIPTION:
URL:https://springlakehts.com/event/holiday-offices-closed-39/
CATEGORIES:General Events
END:VEVENT
BEGIN:VEVENT
DTSTART;TZID=America/New_York:20250419T120000
DTEND;TZID=America/New_York:20250419T130000
DTSTAMP:20260425T172941
CREATED:20250321T131923Z
LAST-MODIFIED:20250321T131923Z
UID:6851-1745064000-1745067600@springlakehts.com
SUMMARY:Easter Egg Hunt
DESCRIPTION:
URL:https://springlakehts.com/event/easter-egg-hunt-3/
LOCATION:Joseph E. Robertson Park (Allaire Rd)\, 1100 Allaire Rd\, Spring Lake Heights\, NJ\, 07762\, United States
CATEGORIES:General Events
END:VEVENT
BEGIN:VEVENT
DTSTART;TZID=America/New_York:20250421T190000
DTEND;TZID=America/New_York:20250425T040000
DTSTAMP:20260425T172941
CREATED:20250321T144930Z
LAST-MODIFIED:20250321T144930Z
UID:6854-1745262000-1745553600@springlakehts.com
SUMMARY:Water Main & Hydrant Flushing (M-F 7:00pm – 4:00am)
DESCRIPTION:
URL:https://springlakehts.com/event/water-main-hydrant-flushing-m-f-700pm-400am-3/
CATEGORIES:General Events
END:VEVENT
BEGIN:VEVENT
DTSTART;TZID=America/New_York:20250517T090000
DTEND;TZID=America/New_York:20250517T150000
DTSTAMP:20260425T172941
CREATED:20250314T163444Z
LAST-MODIFIED:20250314T163444Z
UID:6820-1747472400-1747494000@springlakehts.com
SUMMARY:Townwide Yard Sale
DESCRIPTION:
URL:https://springlakehts.com/event/townwide-yard-sale/
CATEGORIES:General Events
END:VEVENT
BEGIN:VEVENT
DTSTART;VALUE=DATE:20250526
DTEND;VALUE=DATE:20250527
DTSTAMP:20260425T172941
CREATED:20250110T204627Z
LAST-MODIFIED:20250110T204627Z
UID:6590-1748217600-1748303999@springlakehts.com
SUMMARY:Holiday – Offices Closed
DESCRIPTION:
URL:https://springlakehts.com/event/holiday-offices-closed-33/
CATEGORIES:General Events
END:VEVENT
BEGIN:VEVENT
DTSTART;TZID=America/New_York:20250526T090000
DTEND;TZID=America/New_York:20250526T093000
DTSTAMP:20260425T172941
CREATED:20250520T191150Z
LAST-MODIFIED:20250520T191150Z
UID:7064-1748250000-1748251800@springlakehts.com
SUMMARY:Memorial Day Ceremony
DESCRIPTION:
URL:https://springlakehts.com/event/memorial-day-ceremony-2/
LOCATION:Municipal Building\, 555 Brighton Avenue\, Sprink Lake Heights\, NJ\, United States
CATEGORIES:General Events
END:VEVENT
BEGIN:VEVENT
DTSTART;TZID=America/New_York:20250528T100000
DTEND;TZID=America/New_York:20250528T140000
DTSTAMP:20260425T172941
CREATED:20250528T155428Z
LAST-MODIFIED:20250528T155428Z
UID:7096-1748426400-1748440800@springlakehts.com
SUMMARY:New Jersey Property Tax Relief Filing Event
DESCRIPTION:
URL:https://springlakehts.com/event/new-jersey-property-tax-relief-filing-event/
LOCATION:Cornelius V. Kelly Community Center\, 902 Ocean Rd\, Spring Lake Heights\, NJ\, 07762\, United States
CATEGORIES:General Events
END:VEVENT
BEGIN:VEVENT
DTSTART;VALUE=DATE:20250610
DTEND;VALUE=DATE:20250611
DTSTAMP:20260425T172941
CREATED:20250110T204717Z
LAST-MODIFIED:20250110T204717Z
UID:6592-1749513600-1749599999@springlakehts.com
SUMMARY:Primary Election Day
DESCRIPTION:
URL:https://springlakehts.com/event/primary-election-day/
CATEGORIES:General Events
END:VEVENT
BEGIN:VEVENT
DTSTART;VALUE=DATE:20250704
DTEND;VALUE=DATE:20250705
DTSTAMP:20260425T172941
CREATED:20250110T204807Z
LAST-MODIFIED:20250110T204807Z
UID:6594-1751587200-1751673599@springlakehts.com
SUMMARY:Holiday – Offices Closed
DESCRIPTION:
URL:https://springlakehts.com/event/holiday-offices-closed-34/
CATEGORIES:General Events
END:VEVENT
BEGIN:VEVENT
DTSTART;TZID=America/New_York:20250805T170000
DTEND;TZID=America/New_York:20250805T200000
DTSTAMP:20260425T172941
CREATED:20250110T205508Z
LAST-MODIFIED:20250603T165316Z
UID:6606-1754413200-1754424000@springlakehts.com
SUMMARY:National Night Out
DESCRIPTION:
URL:https://springlakehts.com/event/national-night-out-2/
LOCATION:Joseph E. Robertson Park (Allaire Rd)\, 1100 Allaire Rd\, Spring Lake Heights\, NJ\, 07762\, United States
CATEGORIES:General Events
END:VEVENT
BEGIN:VEVENT
DTSTART;VALUE=DATE:20250901
DTEND;VALUE=DATE:20250902
DTSTAMP:20260425T172941
CREATED:20250110T204928Z
LAST-MODIFIED:20250110T204928Z
UID:6596-1756684800-1756771199@springlakehts.com
SUMMARY:Holiday – Offices Closed
DESCRIPTION:
URL:https://springlakehts.com/event/holiday-offices-closed-35/
CATEGORIES:General Events
END:VEVENT
BEGIN:VEVENT
DTSTART;TZID=America/New_York:20250915T190000
DTEND;TZID=America/New_York:20250926T040000
DTSTAMP:20260425T172941
CREATED:20250110T210557Z
LAST-MODIFIED:20250110T210557Z
UID:6612-1757962800-1758859200@springlakehts.com
SUMMARY:Water Main & Hydrant Flushing (M-F 7:00pm - 4:00am)
DESCRIPTION:
URL:https://springlakehts.com/event/water-main-hydrant-flushing-m-f-700pm-400am-2/
CATEGORIES:General Events
END:VEVENT
BEGIN:VEVENT
DTSTART;VALUE=DATE:20251013
DTEND;VALUE=DATE:20251014
DTSTAMP:20260425T172941
CREATED:20250110T205002Z
LAST-MODIFIED:20250110T205002Z
UID:6598-1760313600-1760399999@springlakehts.com
SUMMARY:Holiday – Offices Closed
DESCRIPTION:
URL:https://springlakehts.com/event/holiday-offices-closed-36/
CATEGORIES:General Events
END:VEVENT
BEGIN:VEVENT
DTSTART;TZID=America/New_York:20251024T160000
DTEND;TZID=America/New_York:20251025T190000
DTSTAMP:20260425T172941
CREATED:20250110T210642Z
LAST-MODIFIED:20250408T161941Z
UID:6614-1761321600-1761418800@springlakehts.com
SUMMARY:Fall Festival
DESCRIPTION:
URL:https://springlakehts.com/event/fall-festival/
LOCATION:Joseph E. Robertson Park (Allaire Rd)\, 1100 Allaire Rd\, Spring Lake Heights\, NJ\, 07762\, United States
CATEGORIES:General Events
END:VEVENT
BEGIN:VEVENT
DTSTART;VALUE=DATE:20251104
DTEND;VALUE=DATE:20251105
DTSTAMP:20260425T172941
CREATED:20250110T205415Z
LAST-MODIFIED:20250110T205415Z
UID:6604-1762214400-1762300799@springlakehts.com
SUMMARY:General Election Day
DESCRIPTION:
URL:https://springlakehts.com/event/general-election-day/
CATEGORIES:General Events
END:VEVENT
BEGIN:VEVENT
DTSTART;VALUE=DATE:20251127
DTEND;VALUE=DATE:20251129
DTSTAMP:20260425T172941
CREATED:20250110T205038Z
LAST-MODIFIED:20250110T205038Z
UID:6600-1764201600-1764374399@springlakehts.com
SUMMARY:Holiday – Offices Closed
DESCRIPTION:
URL:https://springlakehts.com/event/holiday-offices-closed-37/
CATEGORIES:General Events
END:VEVENT
BEGIN:VEVENT
DTSTART;TZID=America/New_York:20251204T180000
DTEND;TZID=America/New_York:20251204T180000
DTSTAMP:20260425T172941
CREATED:20250110T210722Z
LAST-MODIFIED:20251113T172911Z
UID:6616-1764871200-1764871200@springlakehts.com
SUMMARY:Annual Tree Lighting
DESCRIPTION:
URL:https://springlakehts.com/event/tree-lighting-3/
LOCATION:Municipal Building\, 555 Brighton Avenue\, Sprink Lake Heights\, NJ\, United States
CATEGORIES:General Events
END:VEVENT
BEGIN:VEVENT
DTSTART;VALUE=DATE:20251225
DTEND;VALUE=DATE:20251227
DTSTAMP:20260425T172941
CREATED:20250110T205320Z
LAST-MODIFIED:20250110T205320Z
UID:6602-1766620800-1766793599@springlakehts.com
SUMMARY:Holiday – Offices Closed
DESCRIPTION:
URL:https://springlakehts.com/event/holiday-offices-closed-38/
CATEGORIES:General Events
END:VEVENT
BEGIN:VEVENT
DTSTART;VALUE=DATE:20260101
DTEND;VALUE=DATE:20260102
DTSTAMP:20260425T172941
CREATED:20250110T210803Z
LAST-MODIFIED:20250110T210803Z
UID:6618-1767225600-1767311999@springlakehts.com
SUMMARY:Holiday – Offices Closed
DESCRIPTION:
URL:https://springlakehts.com/event/holiday-offices-closed-40/
CATEGORIES:General Events
END:VEVENT
BEGIN:VEVENT
DTSTART;VALUE=DATE:20260119
DTEND;VALUE=DATE:20260120
DTSTAMP:20260425T172941
CREATED:20260112T182327Z
LAST-MODIFIED:20260112T182327Z
UID:7569-1768780800-1768867199@springlakehts.com
SUMMARY:Holiday – Offices Closed
DESCRIPTION:
URL:https://springlakehts.com/event/holiday-offices-closed-41/
CATEGORIES:General Events
END:VEVENT
BEGIN:VEVENT
DTSTART;VALUE=DATE:20260216
DTEND;VALUE=DATE:20260217
DTSTAMP:20260425T172941
CREATED:20260112T182530Z
LAST-MODIFIED:20260112T182530Z
UID:7571-1771200000-1771286399@springlakehts.com
SUMMARY:Holiday – Offices Closed
DESCRIPTION:
URL:https://springlakehts.com/event/holiday-offices-closed-42/
CATEGORIES:General Events
END:VEVENT
BEGIN:VEVENT
DTSTART;VALUE=DATE:20260403
DTEND;VALUE=DATE:20260404
DTSTAMP:20260425T172941
CREATED:20260330T185128Z
LAST-MODIFIED:20260330T185128Z
UID:7925-1775174400-1775260799@springlakehts.com
SUMMARY:Holiday - Office Closed
DESCRIPTION:
URL:https://springlakehts.com/event/holiday-office-closed/
CATEGORIES:General Events
END:VEVENT
BEGIN:VEVENT
DTSTART;TZID=America/New_York:20260404T120000
DTEND;TZID=America/New_York:20260404T130000
DTSTAMP:20260425T172941
CREATED:20260323T022737Z
LAST-MODIFIED:20260324T132835Z
UID:7896-1775304000-1775307600@springlakehts.com
SUMMARY:Independent Fire Company #1 Easter Egg Hunt
DESCRIPTION:
URL:https://springlakehts.com/event/independent-fire-company-1-easter-egg-hunt/
LOCATION:Joseph E. Robertson Park (Allaire Rd)\, 1100 Allaire Rd\, Spring Lake Heights\, NJ\, 07762\, United States
CATEGORIES:General Events
END:VEVENT
BEGIN:VEVENT
DTSTART;TZID=America/New_York:20260411T080000
DTEND;TZID=America/New_York:20260411T133000
DTSTAMP:20260425T172941
CREATED:20260330T183805Z
LAST-MODIFIED:20260330T183805Z
UID:7921-1775894400-1775914200@springlakehts.com
SUMMARY:2026 Trout Contest for Kids
DESCRIPTION:
URL:https://springlakehts.com/event/2026-trout-contest-for-kids/
CATEGORIES:General Events
END:VEVENT
BEGIN:VEVENT
DTSTART;VALUE=DATE:20260413
DTEND;VALUE=DATE:20260418
DTSTAMP:20260425T172941
CREATED:20260420T154524Z
LAST-MODIFIED:20260420T154524Z
UID:8004-1776038400-1776470399@springlakehts.com
SUMMARY:Hydrant Flushing
DESCRIPTION:
URL:https://springlakehts.com/event/hydrant-flushing-3/
CATEGORIES:General Events
END:VEVENT
BEGIN:VEVENT
DTSTART;VALUE=DATE:20260420
DTEND;VALUE=DATE:20260425
DTSTAMP:20260425T172941
CREATED:20260420T154456Z
LAST-MODIFIED:20260420T154456Z
UID:8002-1776643200-1777075199@springlakehts.com
SUMMARY:Hydrant Flushing
DESCRIPTION:
URL:https://springlakehts.com/event/hydrant-flushing-2/
CATEGORIES:General Events
END:VEVENT
BEGIN:VEVENT
DTSTART;TZID=America/New_York:20260425T090000
DTEND;TZID=America/New_York:20260425T150000
DTSTAMP:20260425T172941
CREATED:20260407T141723Z
LAST-MODIFIED:20260407T141723Z
UID:7953-1777107600-1777129200@springlakehts.com
SUMMARY:Spring Lake Heights Town-wide Garage Sale
DESCRIPTION:
URL:https://springlakehts.com/event/spring-lake-heights-town-wide-garage-sale/
LOCATION:Spring Lake Heights
CATEGORIES:General Events
END:VEVENT
END:VCALENDAR