BEGIN:VCALENDAR
VERSION:2.0
PRODID:-//Spring Lake Heights New Jersey - ECPv6.15.3//NONSGML v1.0//EN
CALSCALE:GREGORIAN
METHOD:PUBLISH
X-ORIGINAL-URL:https://springlakehts.com
X-WR-CALDESC:Events for Spring Lake Heights New Jersey
REFRESH-INTERVAL;VALUE=DURATION:PT1H
X-Robots-Tag:noindex
X-PUBLISHED-TTL:PT1H
BEGIN:VTIMEZONE
TZID:America/New_York
BEGIN:DAYLIGHT
TZOFFSETFROM:-0500
TZOFFSETTO:-0400
TZNAME:EDT
DTSTART:20260308T070000
END:DAYLIGHT
BEGIN:STANDARD
TZOFFSETFROM:-0400
TZOFFSETTO:-0500
TZNAME:EST
DTSTART:20261101T060000
END:STANDARD
END:VTIMEZONE
BEGIN:VEVENT
DTSTART;TZID=America/New_York:20260404T120000
DTEND;TZID=America/New_York:20260404T130000
DTSTAMP:20260425T104603
CREATED:20260323T022737Z
LAST-MODIFIED:20260324T132835Z
UID:7896-1775304000-1775307600@springlakehts.com
SUMMARY:Independent Fire Company #1 Easter Egg Hunt
DESCRIPTION:
URL:https://springlakehts.com/event/independent-fire-company-1-easter-egg-hunt/
LOCATION:Joseph E. Robertson Park (Allaire Rd)\, 1100 Allaire Rd\, Spring Lake Heights\, NJ\, 07762\, United States
CATEGORIES:General Events
END:VEVENT
BEGIN:VEVENT
DTSTART;TZID=America/New_York:20260411T080000
DTEND;TZID=America/New_York:20260411T133000
DTSTAMP:20260425T104603
CREATED:20260330T183805Z
LAST-MODIFIED:20260330T183805Z
UID:7921-1775894400-1775914200@springlakehts.com
SUMMARY:2026 Trout Contest for Kids
DESCRIPTION:
URL:https://springlakehts.com/event/2026-trout-contest-for-kids/
CATEGORIES:General Events
END:VEVENT
BEGIN:VEVENT
DTSTART;VALUE=DATE:20260413
DTEND;VALUE=DATE:20260418
DTSTAMP:20260425T104603
CREATED:20260420T154524Z
LAST-MODIFIED:20260420T154524Z
UID:8004-1776038400-1776470399@springlakehts.com
SUMMARY:Hydrant Flushing
DESCRIPTION:
URL:https://springlakehts.com/event/hydrant-flushing-3/
CATEGORIES:General Events
END:VEVENT
BEGIN:VEVENT
DTSTART;VALUE=DATE:20260420
DTEND;VALUE=DATE:20260425
DTSTAMP:20260425T104603
CREATED:20260420T154456Z
LAST-MODIFIED:20260420T154456Z
UID:8002-1776643200-1777075199@springlakehts.com
SUMMARY:Hydrant Flushing
DESCRIPTION:
URL:https://springlakehts.com/event/hydrant-flushing-2/
CATEGORIES:General Events
END:VEVENT
BEGIN:VEVENT
DTSTART;TZID=America/New_York:20260425T090000
DTEND;TZID=America/New_York:20260425T150000
DTSTAMP:20260425T104603
CREATED:20260407T141723Z
LAST-MODIFIED:20260407T141723Z
UID:7953-1777107600-1777129200@springlakehts.com
SUMMARY:Spring Lake Heights Town-wide Garage Sale
DESCRIPTION:
URL:https://springlakehts.com/event/spring-lake-heights-town-wide-garage-sale/
LOCATION:Spring Lake Heights
CATEGORIES:General Events
END:VEVENT
BEGIN:VEVENT
DTSTART;TZID=America/New_York:20260426T120000
DTEND;TZID=America/New_York:20260426T150000
DTSTAMP:20260425T104603
CREATED:20260423T140724Z
LAST-MODIFIED:20260423T140724Z
UID:8041-1777204800-1777215600@springlakehts.com
SUMMARY:Scanning & Collection Day
DESCRIPTION:
URL:https://springlakehts.com/event/scanning-collection-day/
LOCATION:Cornelius V. Kelly Community Center\, 902 Ocean Rd\, Spring Lake Heights\, NJ\, 07762\, United States
CATEGORIES:General Events
END:VEVENT
BEGIN:VEVENT
DTSTART;TZID=America/New_York:20260430T180000
DTEND;TZID=America/New_York:20260430T200000
DTSTAMP:20260425T104603
CREATED:20260423T153512Z
LAST-MODIFIED:20260423T153512Z
UID:8046-1777572000-1777579200@springlakehts.com
SUMMARY:Scanning & Collection Day
DESCRIPTION:
URL:https://springlakehts.com/event/scanning-collection-day-2/
LOCATION:Cornelius V. Kelly Community Center\, 902 Ocean Rd\, Spring Lake Heights\, NJ\, 07762\, United States
CATEGORIES:General Events
END:VEVENT
BEGIN:VEVENT
DTSTART;TZID=America/New_York:20260502T100000
DTEND;TZID=America/New_York:20260502T160000
DTSTAMP:20260425T104603
CREATED:20260420T155611Z
LAST-MODIFIED:20260420T155611Z
UID:8007-1777716000-1777737600@springlakehts.com
SUMMARY:Spring Lake Heights Historical Open House
DESCRIPTION:
URL:https://springlakehts.com/event/spring-lake-heights-historical-open-house/
LOCATION:Cornelius V. Kelly Community Center\, 902 Ocean Rd\, Spring Lake Heights\, NJ\, 07762\, United States
CATEGORIES:General Events
END:VEVENT
BEGIN:VEVENT
DTSTART;TZID=America/New_York:20260503T120000
DTEND;TZID=America/New_York:20260503T160000
DTSTAMP:20260425T104603
CREATED:20260420T155657Z
LAST-MODIFIED:20260420T155657Z
UID:8011-1777809600-1777824000@springlakehts.com
SUMMARY:Spring Lake Heights Historical Open House
DESCRIPTION:
URL:https://springlakehts.com/event/spring-lake-heights-historical-open-house-2/
LOCATION:Cornelius V. Kelly Community Center\, 902 Ocean Rd\, Spring Lake Heights\, NJ\, 07762\, United States
CATEGORIES:General Events
END:VEVENT
BEGIN:VEVENT
DTSTART;VALUE=DATE:20260511
DTEND;VALUE=DATE:20260516
DTSTAMP:20260425T104603
CREATED:20260420T153832Z
LAST-MODIFIED:20260420T153832Z
UID:7997-1778457600-1778889599@springlakehts.com
SUMMARY:Jersey Shore Dream Center  Diaper & Wipes Drive
DESCRIPTION:
URL:https://springlakehts.com/event/jersey-shore-dream-center-diaper-wipes-drive/
LOCATION:Municipal Building\, 555 Brighton Avenue\, Sprink Lake Heights\, NJ\, United States
CATEGORIES:General Events
END:VEVENT
BEGIN:VEVENT
DTSTART;VALUE=DATE:20260525
DTEND;VALUE=DATE:20260526
DTSTAMP:20260425T104603
CREATED:20260112T182846Z
LAST-MODIFIED:20260112T182846Z
UID:7573-1779667200-1779753599@springlakehts.com
SUMMARY:Holiday – Offices Closed
DESCRIPTION:
URL:https://springlakehts.com/event/holiday-offices-closed-43/
CATEGORIES:General Events
END:VEVENT
BEGIN:VEVENT
DTSTART;VALUE=DATE:20260525
DTEND;VALUE=DATE:20260526
DTSTAMP:20260425T104603
CREATED:20260330T185158Z
LAST-MODIFIED:20260330T185158Z
UID:7927-1779667200-1779753599@springlakehts.com
SUMMARY:Holiday - Office Closed
DESCRIPTION:
URL:https://springlakehts.com/event/holiday-office-closed-2/
CATEGORIES:General Events
END:VEVENT
BEGIN:VEVENT
DTSTART;VALUE=DATE:20260602
DTEND;VALUE=DATE:20260603
DTSTAMP:20260425T104603
CREATED:20260112T204452Z
LAST-MODIFIED:20260112T204452Z
UID:7595-1780358400-1780444799@springlakehts.com
SUMMARY:Primary Election Day
DESCRIPTION:
URL:https://springlakehts.com/event/primary-election-day-2/
CATEGORIES:General Events
END:VEVENT
BEGIN:VEVENT
DTSTART;VALUE=DATE:20260619
DTEND;VALUE=DATE:20260620
DTSTAMP:20260425T104603
CREATED:20260330T185220Z
LAST-MODIFIED:20260330T185220Z
UID:7929-1781827200-1781913599@springlakehts.com
SUMMARY:Holiday - Office Closed
DESCRIPTION:
URL:https://springlakehts.com/event/holiday-office-closed-3/
CATEGORIES:General Events
END:VEVENT
BEGIN:VEVENT
DTSTART;VALUE=DATE:20260703
DTEND;VALUE=DATE:20260704
DTSTAMP:20260425T104603
CREATED:20260112T182954Z
LAST-MODIFIED:20260112T182954Z
UID:7575-1783036800-1783123199@springlakehts.com
SUMMARY:Holiday – Offices Closed
DESCRIPTION:
URL:https://springlakehts.com/event/holiday-offices-closed-44/
CATEGORIES:General Events
END:VEVENT
BEGIN:VEVENT
DTSTART;VALUE=DATE:20260703
DTEND;VALUE=DATE:20260704
DTSTAMP:20260425T104603
CREATED:20260330T185250Z
LAST-MODIFIED:20260330T185250Z
UID:7931-1783036800-1783123199@springlakehts.com
SUMMARY:Holiday - Office Closed
DESCRIPTION:
URL:https://springlakehts.com/event/holiday-office-closed-4/
CATEGORIES:General Events
END:VEVENT
BEGIN:VEVENT
DTSTART;VALUE=DATE:20260907
DTEND;VALUE=DATE:20260908
DTSTAMP:20260425T104603
CREATED:20260112T183114Z
LAST-MODIFIED:20260112T183114Z
UID:7577-1788739200-1788825599@springlakehts.com
SUMMARY:Holiday – Offices Closed
DESCRIPTION:
URL:https://springlakehts.com/event/holiday-offices-closed-45/
CATEGORIES:General Events
END:VEVENT
BEGIN:VEVENT
DTSTART;VALUE=DATE:20261012
DTEND;VALUE=DATE:20261013
DTSTAMP:20260425T104603
CREATED:20260112T184451Z
LAST-MODIFIED:20260112T184451Z
UID:7580-1791763200-1791849599@springlakehts.com
SUMMARY:Holiday – Offices Closed
DESCRIPTION:
URL:https://springlakehts.com/event/holiday-offices-closed-46/
CATEGORIES:General Events
END:VEVENT
BEGIN:VEVENT
DTSTART;VALUE=DATE:20261103
DTEND;VALUE=DATE:20261104
DTSTAMP:20260425T104603
CREATED:20260112T204241Z
LAST-MODIFIED:20260112T204241Z
UID:7593-1793664000-1793750399@springlakehts.com
SUMMARY:General Election Day
DESCRIPTION:
URL:https://springlakehts.com/event/general-election-day-2/
CATEGORIES:General Events
END:VEVENT
BEGIN:VEVENT
DTSTART;VALUE=DATE:20261126
DTEND;VALUE=DATE:20261127
DTSTAMP:20260425T104603
CREATED:20260112T184534Z
LAST-MODIFIED:20260112T184534Z
UID:7582-1795651200-1795737599@springlakehts.com
SUMMARY:Holiday – Offices Closed
DESCRIPTION:
URL:https://springlakehts.com/event/holiday-offices-closed-47/
CATEGORIES:General Events
END:VEVENT
BEGIN:VEVENT
DTSTART;VALUE=DATE:20261127
DTEND;VALUE=DATE:20261128
DTSTAMP:20260425T104603
CREATED:20260112T184556Z
LAST-MODIFIED:20260112T184556Z
UID:7584-1795737600-1795823999@springlakehts.com
SUMMARY:Holiday – Offices Closed
DESCRIPTION:
URL:https://springlakehts.com/event/holiday-offices-closed-48/
CATEGORIES:General Events
END:VEVENT
BEGIN:VEVENT
DTSTART;VALUE=DATE:20261224
DTEND;VALUE=DATE:20261225
DTSTAMP:20260425T104603
CREATED:20260112T184645Z
LAST-MODIFIED:20260112T184645Z
UID:7586-1798070400-1798156799@springlakehts.com
SUMMARY:Holiday – Offices Closed
DESCRIPTION:
URL:https://springlakehts.com/event/holiday-offices-closed-49/
CATEGORIES:General Events
END:VEVENT
BEGIN:VEVENT
DTSTART;VALUE=DATE:20261225
DTEND;VALUE=DATE:20261226
DTSTAMP:20260425T104603
CREATED:20260112T184726Z
LAST-MODIFIED:20260112T184726Z
UID:7588-1798156800-1798243199@springlakehts.com
SUMMARY:Holiday – Offices Closed
DESCRIPTION:
URL:https://springlakehts.com/event/holiday-offices-closed-50/
CATEGORIES:General Events
END:VEVENT
END:VCALENDAR