BEGIN:VCALENDAR
VERSION:2.0
PRODID:-//Spring Lake Heights New Jersey - ECPv6.15.3//NONSGML v1.0//EN
CALSCALE:GREGORIAN
METHOD:PUBLISH
X-ORIGINAL-URL:https://springlakehts.com
X-WR-CALDESC:Events for Spring Lake Heights New Jersey
REFRESH-INTERVAL;VALUE=DURATION:PT1H
X-Robots-Tag:noindex
X-PUBLISHED-TTL:PT1H
BEGIN:VTIMEZONE
TZID:America/New_York
BEGIN:DAYLIGHT
TZOFFSETFROM:-0500
TZOFFSETTO:-0400
TZNAME:EDT
DTSTART:20240310T070000
END:DAYLIGHT
BEGIN:STANDARD
TZOFFSETFROM:-0400
TZOFFSETTO:-0500
TZNAME:EST
DTSTART:20241103T060000
END:STANDARD
BEGIN:DAYLIGHT
TZOFFSETFROM:-0500
TZOFFSETTO:-0400
TZNAME:EDT
DTSTART:20250309T070000
END:DAYLIGHT
BEGIN:STANDARD
TZOFFSETFROM:-0400
TZOFFSETTO:-0500
TZNAME:EST
DTSTART:20251102T060000
END:STANDARD
END:VTIMEZONE
BEGIN:VEVENT
DTSTART;TZID=America/New_York:20250917T190000
DTEND;TZID=America/New_York:20250917T190000
DTSTAMP:20260425T161616
CREATED:20250117T200409Z
LAST-MODIFIED:20250117T200409Z
UID:6659-1758135600-1758135600@springlakehts.com
SUMMARY:Land Use Board Meeting
DESCRIPTION:
URL:https://springlakehts.com/event/land-use-board-meeting-55/
LOCATION:Municipal Building\, 555 Brighton Avenue\, Sprink Lake Heights\, NJ\, United States
CATEGORIES:Land Use Board
END:VEVENT
BEGIN:VEVENT
DTSTART;TZID=America/New_York:20250910T190000
DTEND;TZID=America/New_York:20250910T190000
DTSTAMP:20260425T161616
CREATED:20250117T200338Z
LAST-MODIFIED:20250117T200338Z
UID:6657-1757530800-1757530800@springlakehts.com
SUMMARY:Land Use Board Meeting
DESCRIPTION:
URL:https://springlakehts.com/event/land-use-board-meeting-54/
LOCATION:Municipal Building\, 555 Brighton Avenue\, Sprink Lake Heights\, NJ\, United States
CATEGORIES:Land Use Board
END:VEVENT
BEGIN:VEVENT
DTSTART;TZID=America/New_York:20250813T190000
DTEND;TZID=America/New_York:20250813T190000
DTSTAMP:20260425T161616
CREATED:20250117T200259Z
LAST-MODIFIED:20250117T200259Z
UID:6655-1755111600-1755111600@springlakehts.com
SUMMARY:Land Use Board Meeting
DESCRIPTION:
URL:https://springlakehts.com/event/land-use-board-meeting-53/
LOCATION:Municipal Building\, 555 Brighton Avenue\, Sprink Lake Heights\, NJ\, United States
CATEGORIES:Land Use Board
END:VEVENT
BEGIN:VEVENT
DTSTART;TZID=America/New_York:20250716T190000
DTEND;TZID=America/New_York:20250716T190000
DTSTAMP:20260425T161616
CREATED:20250117T200209Z
LAST-MODIFIED:20250117T200209Z
UID:6653-1752692400-1752692400@springlakehts.com
SUMMARY:Land Use Board Meeting
DESCRIPTION:
URL:https://springlakehts.com/event/land-use-board-meeting-52/
LOCATION:Municipal Building\, 555 Brighton Avenue\, Sprink Lake Heights\, NJ\, United States
CATEGORIES:Land Use Board
END:VEVENT
BEGIN:VEVENT
DTSTART;TZID=America/New_York:20250709T190000
DTEND;TZID=America/New_York:20250709T190000
DTSTAMP:20260425T161616
CREATED:20250117T200139Z
LAST-MODIFIED:20250117T200139Z
UID:6651-1752087600-1752087600@springlakehts.com
SUMMARY:Land Use Board Meeting
DESCRIPTION:
URL:https://springlakehts.com/event/land-use-board-meeting-51/
LOCATION:Municipal Building\, 555 Brighton Avenue\, Sprink Lake Heights\, NJ\, United States
CATEGORIES:Land Use Board
END:VEVENT
BEGIN:VEVENT
DTSTART;TZID=America/New_York:20250618T190000
DTEND;TZID=America/New_York:20250618T190000
DTSTAMP:20260425T161616
CREATED:20250117T200017Z
LAST-MODIFIED:20250117T200017Z
UID:6649-1750273200-1750273200@springlakehts.com
SUMMARY:Land Use Board Meeting
DESCRIPTION:
URL:https://springlakehts.com/event/land-use-board-meeting-50/
LOCATION:Municipal Building\, 555 Brighton Avenue\, Sprink Lake Heights\, NJ\, United States
CATEGORIES:Land Use Board
END:VEVENT
BEGIN:VEVENT
DTSTART;TZID=America/New_York:20250611T190000
DTEND;TZID=America/New_York:20250611T190000
DTSTAMP:20260425T161616
CREATED:20250117T195949Z
LAST-MODIFIED:20250117T195949Z
UID:6647-1749668400-1749668400@springlakehts.com
SUMMARY:Land Use Board Meeting
DESCRIPTION:
URL:https://springlakehts.com/event/land-use-board-meeting-49/
LOCATION:Municipal Building\, 555 Brighton Avenue\, Sprink Lake Heights\, NJ\, United States
CATEGORIES:Land Use Board
END:VEVENT
BEGIN:VEVENT
DTSTART;TZID=America/New_York:20250521T190000
DTEND;TZID=America/New_York:20250521T190000
DTSTAMP:20260425T161616
CREATED:20250117T195859Z
LAST-MODIFIED:20250117T195859Z
UID:6645-1747854000-1747854000@springlakehts.com
SUMMARY:Land Use Board Meeting
DESCRIPTION:
URL:https://springlakehts.com/event/land-use-board-meeting-48/
LOCATION:Municipal Building\, 555 Brighton Avenue\, Sprink Lake Heights\, NJ\, United States
CATEGORIES:Land Use Board
END:VEVENT
BEGIN:VEVENT
DTSTART;TZID=America/New_York:20250514T190000
DTEND;TZID=America/New_York:20250514T190000
DTSTAMP:20260425T161616
CREATED:20250117T195822Z
LAST-MODIFIED:20250117T195822Z
UID:6643-1747249200-1747249200@springlakehts.com
SUMMARY:Land Use Board Meeting
DESCRIPTION:
URL:https://springlakehts.com/event/land-use-board-meeting-47/
LOCATION:Municipal Building\, 555 Brighton Avenue\, Sprink Lake Heights\, NJ\, United States
CATEGORIES:Land Use Board
END:VEVENT
BEGIN:VEVENT
DTSTART;TZID=America/New_York:20250416T190000
DTEND;TZID=America/New_York:20250416T190000
DTSTAMP:20260425T161616
CREATED:20250117T194830Z
LAST-MODIFIED:20250117T194830Z
UID:6641-1744830000-1744830000@springlakehts.com
SUMMARY:Land Use Board Meeting
DESCRIPTION:
URL:https://springlakehts.com/event/land-use-board-meeting-46/
LOCATION:Municipal Building\, 555 Brighton Avenue\, Sprink Lake Heights\, NJ\, United States
CATEGORIES:Land Use Board
END:VEVENT
BEGIN:VEVENT
DTSTART;TZID=America/New_York:20250409T190000
DTEND;TZID=America/New_York:20250409T190000
DTSTAMP:20260425T161616
CREATED:20250117T194721Z
LAST-MODIFIED:20250117T194721Z
UID:6639-1744225200-1744225200@springlakehts.com
SUMMARY:Land Use Board Meeting
DESCRIPTION:
URL:https://springlakehts.com/event/land-use-board-meeting-45/
LOCATION:Municipal Building\, 555 Brighton Avenue\, Sprink Lake Heights\, NJ\, United States
CATEGORIES:Land Use Board
END:VEVENT
BEGIN:VEVENT
DTSTART;TZID=America/New_York:20250319T190000
DTEND;TZID=America/New_York:20250319T190000
DTSTAMP:20260425T161616
CREATED:20250117T194632Z
LAST-MODIFIED:20250319T154050Z
UID:6637-1742410800-1742410800@springlakehts.com
SUMMARY:Land Use Board Meeting - Cancelled
DESCRIPTION:
URL:https://springlakehts.com/event/land-use-board-meeting-44/
LOCATION:Municipal Building\, 555 Brighton Avenue\, Sprink Lake Heights\, NJ\, United States
CATEGORIES:Land Use Board
END:VEVENT
BEGIN:VEVENT
DTSTART;TZID=America/New_York:20250312T190000
DTEND;TZID=America/New_York:20250312T190000
DTSTAMP:20260425T161616
CREATED:20250117T194601Z
LAST-MODIFIED:20250117T194601Z
UID:6635-1741806000-1741806000@springlakehts.com
SUMMARY:Land Use Board Meeting
DESCRIPTION:
URL:https://springlakehts.com/event/land-use-board-meeting-43/
LOCATION:Municipal Building\, 555 Brighton Avenue\, Sprink Lake Heights\, NJ\, United States
CATEGORIES:Land Use Board
END:VEVENT
BEGIN:VEVENT
DTSTART;TZID=America/New_York:20250219T190000
DTEND;TZID=America/New_York:20250219T190000
DTSTAMP:20260425T161616
CREATED:20250117T194528Z
LAST-MODIFIED:20250131T164855Z
UID:6632-1739991600-1739991600@springlakehts.com
SUMMARY:Land Use Board Meeting
DESCRIPTION:
URL:https://springlakehts.com/event/land-use-board-meeting-42/
LOCATION:Municipal Building\, 555 Brighton Avenue\, Sprink Lake Heights\, NJ\, United States
CATEGORIES:Land Use Board
END:VEVENT
BEGIN:VEVENT
DTSTART;TZID=America/New_York:20250115T190000
DTEND;TZID=America/New_York:20250115T190000
DTSTAMP:20260425T161616
CREATED:20240213T191226Z
LAST-MODIFIED:20250110T171842Z
UID:5419-1736967600-1736967600@springlakehts.com
SUMMARY:Land Use Board Meeting - Cancelled
DESCRIPTION:
URL:https://springlakehts.com/event/land-use-board-meeting-41/
LOCATION:Municipal Building\, 555 Brighton Avenue\, Sprink Lake Heights\, NJ\, United States
CATEGORIES:Land Use Board
END:VEVENT
BEGIN:VEVENT
DTSTART;TZID=America/New_York:20250108T190000
DTEND;TZID=America/New_York:20250108T190000
DTSTAMP:20260425T161616
CREATED:20240213T191153Z
LAST-MODIFIED:20240213T191153Z
UID:5417-1736362800-1736362800@springlakehts.com
SUMMARY:Land Use Board Meeting
DESCRIPTION:
URL:https://springlakehts.com/event/land-use-board-meeting-40/
LOCATION:Municipal Building\, 555 Brighton Avenue\, Sprink Lake Heights\, NJ\, United States
CATEGORIES:Land Use Board
END:VEVENT
BEGIN:VEVENT
DTSTART;TZID=America/New_York:20241211T190000
DTEND;TZID=America/New_York:20241211T190000
DTSTAMP:20260425T161616
CREATED:20240213T191119Z
LAST-MODIFIED:20240213T191119Z
UID:5415-1733943600-1733943600@springlakehts.com
SUMMARY:Land Use Board Meeting
DESCRIPTION:
URL:https://springlakehts.com/event/land-use-board-meeting-39/
LOCATION:Municipal Building\, 555 Brighton Avenue\, Sprink Lake Heights\, NJ\, United States
CATEGORIES:Land Use Board
END:VEVENT
BEGIN:VEVENT
DTSTART;TZID=America/New_York:20241113T190000
DTEND;TZID=America/New_York:20241113T190000
DTSTAMP:20260425T161616
CREATED:20240213T191035Z
LAST-MODIFIED:20240213T191035Z
UID:5413-1731524400-1731524400@springlakehts.com
SUMMARY:Land Use Board Meeting
DESCRIPTION:
URL:https://springlakehts.com/event/land-use-board-meeting-38/
LOCATION:Municipal Building\, 555 Brighton Avenue\, Sprink Lake Heights\, NJ\, United States
CATEGORIES:Land Use Board
END:VEVENT
BEGIN:VEVENT
DTSTART;TZID=America/New_York:20241016T190000
DTEND;TZID=America/New_York:20241016T190000
DTSTAMP:20260425T161616
CREATED:20240213T190956Z
LAST-MODIFIED:20240213T190956Z
UID:5411-1729105200-1729105200@springlakehts.com
SUMMARY:Land Use Board Meeting
DESCRIPTION:
URL:https://springlakehts.com/event/land-use-board-meeting-37/
LOCATION:Municipal Building\, 555 Brighton Avenue\, Sprink Lake Heights\, NJ\, United States
CATEGORIES:Land Use Board
END:VEVENT
BEGIN:VEVENT
DTSTART;TZID=America/New_York:20241009T190000
DTEND;TZID=America/New_York:20241009T190000
DTSTAMP:20260425T161616
CREATED:20240213T190756Z
LAST-MODIFIED:20240213T190756Z
UID:5409-1728500400-1728500400@springlakehts.com
SUMMARY:Land Use Board Meeting
DESCRIPTION:
URL:https://springlakehts.com/event/land-use-board-meeting-36/
LOCATION:Municipal Building\, 555 Brighton Avenue\, Sprink Lake Heights\, NJ\, United States
CATEGORIES:Land Use Board
END:VEVENT
BEGIN:VEVENT
DTSTART;TZID=America/New_York:20240918T190000
DTEND;TZID=America/New_York:20240918T190000
DTSTAMP:20260425T161616
CREATED:20240213T190709Z
LAST-MODIFIED:20240213T190709Z
UID:5407-1726686000-1726686000@springlakehts.com
SUMMARY:Land Use Board Meeting
DESCRIPTION:
URL:https://springlakehts.com/event/land-use-board-meeting-35/
LOCATION:Municipal Building\, 555 Brighton Avenue\, Sprink Lake Heights\, NJ\, United States
CATEGORIES:Land Use Board
END:VEVENT
BEGIN:VEVENT
DTSTART;TZID=America/New_York:20240911T190000
DTEND;TZID=America/New_York:20240911T190000
DTSTAMP:20260425T161616
CREATED:20240213T190638Z
LAST-MODIFIED:20240213T190638Z
UID:5405-1726081200-1726081200@springlakehts.com
SUMMARY:Land Use Board Meeting
DESCRIPTION:
URL:https://springlakehts.com/event/land-use-board-meeting-34/
LOCATION:Municipal Building\, 555 Brighton Avenue\, Sprink Lake Heights\, NJ\, United States
CATEGORIES:Land Use Board
END:VEVENT
BEGIN:VEVENT
DTSTART;TZID=America/New_York:20240814T190000
DTEND;TZID=America/New_York:20240814T190000
DTSTAMP:20260425T161616
CREATED:20240213T190602Z
LAST-MODIFIED:20240213T190602Z
UID:5403-1723662000-1723662000@springlakehts.com
SUMMARY:Land Use Board Meeting
DESCRIPTION:
URL:https://springlakehts.com/event/land-use-board-meeting-33/
LOCATION:Municipal Building\, 555 Brighton Avenue\, Sprink Lake Heights\, NJ\, United States
CATEGORIES:Land Use Board
END:VEVENT
BEGIN:VEVENT
DTSTART;TZID=America/New_York:20240717T190000
DTEND;TZID=America/New_York:20240717T190000
DTSTAMP:20260425T161616
CREATED:20240213T190502Z
LAST-MODIFIED:20240213T190502Z
UID:5401-1721242800-1721242800@springlakehts.com
SUMMARY:Land Use Board Meeting
DESCRIPTION:
URL:https://springlakehts.com/event/land-use-board-meeting-32/
LOCATION:Municipal Building\, 555 Brighton Avenue\, Sprink Lake Heights\, NJ\, United States
CATEGORIES:Land Use Board
END:VEVENT
BEGIN:VEVENT
DTSTART;TZID=America/New_York:20240710T190000
DTEND;TZID=America/New_York:20240710T190000
DTSTAMP:20260425T161616
CREATED:20240213T190431Z
LAST-MODIFIED:20240213T190431Z
UID:5399-1720638000-1720638000@springlakehts.com
SUMMARY:Land Use Board Meeting
DESCRIPTION:
URL:https://springlakehts.com/event/land-use-board-meeting-31/
LOCATION:Municipal Building\, 555 Brighton Avenue\, Sprink Lake Heights\, NJ\, United States
CATEGORIES:Land Use Board
END:VEVENT
BEGIN:VEVENT
DTSTART;TZID=America/New_York:20240619T190000
DTEND;TZID=America/New_York:20240619T190000
DTSTAMP:20260425T161616
CREATED:20240213T190319Z
LAST-MODIFIED:20240213T190319Z
UID:5397-1718823600-1718823600@springlakehts.com
SUMMARY:Land Use Board Meeting
DESCRIPTION:
URL:https://springlakehts.com/event/land-use-board-meeting-30/
LOCATION:Municipal Building\, 555 Brighton Avenue\, Sprink Lake Heights\, NJ\, United States
CATEGORIES:Land Use Board
END:VEVENT
BEGIN:VEVENT
DTSTART;TZID=America/New_York:20240612T190000
DTEND;TZID=America/New_York:20240612T190000
DTSTAMP:20260425T161616
CREATED:20240213T190250Z
LAST-MODIFIED:20240213T190250Z
UID:5395-1718218800-1718218800@springlakehts.com
SUMMARY:Land Use Board Meeting
DESCRIPTION:
URL:https://springlakehts.com/event/land-use-board-meeting-29/
LOCATION:Municipal Building\, 555 Brighton Avenue\, Sprink Lake Heights\, NJ\, United States
CATEGORIES:Land Use Board
END:VEVENT
BEGIN:VEVENT
DTSTART;TZID=America/New_York:20240515T190000
DTEND;TZID=America/New_York:20240515T190000
DTSTAMP:20260425T161616
CREATED:20240213T190137Z
LAST-MODIFIED:20240213T190137Z
UID:5393-1715799600-1715799600@springlakehts.com
SUMMARY:Land Use Board Meeting
DESCRIPTION:
URL:https://springlakehts.com/event/land-use-board-meeting-28/
LOCATION:Municipal Building\, 555 Brighton Avenue\, Sprink Lake Heights\, NJ\, United States
CATEGORIES:Land Use Board
END:VEVENT
BEGIN:VEVENT
DTSTART;TZID=America/New_York:20240508T190000
DTEND;TZID=America/New_York:20240508T190000
DTSTAMP:20260425T161616
CREATED:20240213T190042Z
LAST-MODIFIED:20240213T190042Z
UID:5391-1715194800-1715194800@springlakehts.com
SUMMARY:Land Use Board Meeting
DESCRIPTION:
URL:https://springlakehts.com/event/land-use-board-meeting-27/
LOCATION:Municipal Building\, 555 Brighton Avenue\, Sprink Lake Heights\, NJ\, United States
CATEGORIES:Land Use Board
END:VEVENT
BEGIN:VEVENT
DTSTART;TZID=America/New_York:20240417T190000
DTEND;TZID=America/New_York:20240417T190000
DTSTAMP:20260425T161616
CREATED:20240213T185958Z
LAST-MODIFIED:20240213T185958Z
UID:5389-1713380400-1713380400@springlakehts.com
SUMMARY:Land Use Board Meeting
DESCRIPTION:
URL:https://springlakehts.com/event/land-use-board-meeting-26/
LOCATION:Municipal Building\, 555 Brighton Avenue\, Sprink Lake Heights\, NJ\, United States
CATEGORIES:Land Use Board
END:VEVENT
END:VCALENDAR