BEGIN:VCALENDAR
VERSION:2.0
PRODID:-//Spring Lake Heights New Jersey - ECPv6.15.3//NONSGML v1.0//EN
CALSCALE:GREGORIAN
METHOD:PUBLISH
X-WR-CALNAME:Spring Lake Heights New Jersey
X-ORIGINAL-URL:https://springlakehts.com
X-WR-CALDESC:Events for Spring Lake Heights New Jersey
REFRESH-INTERVAL;VALUE=DURATION:PT1H
X-Robots-Tag:noindex
X-PUBLISHED-TTL:PT1H
BEGIN:VTIMEZONE
TZID:America/New_York
BEGIN:DAYLIGHT
TZOFFSETFROM:-0500
TZOFFSETTO:-0400
TZNAME:EDT
DTSTART:20220313T070000
END:DAYLIGHT
BEGIN:STANDARD
TZOFFSETFROM:-0400
TZOFFSETTO:-0500
TZNAME:EST
DTSTART:20221106T060000
END:STANDARD
END:VTIMEZONE
BEGIN:VEVENT
DTSTART;TZID=America/New_York:20221109T190000
DTEND;TZID=America/New_York:20221109T190000
DTSTAMP:20260425T231812
CREATED:20220114T193555Z
LAST-MODIFIED:20220114T193555Z
UID:2753-1668020400-1668020400@springlakehts.com
SUMMARY:Planning Board Meeting
DESCRIPTION:
URL:https://springlakehts.com/event/planning-board-meeting-23/
LOCATION:To Be Determined
CATEGORIES:Land Use Board
END:VEVENT
BEGIN:VEVENT
DTSTART;TZID=America/New_York:20221019T190000
DTEND;TZID=America/New_York:20221019T190000
DTSTAMP:20260425T231812
CREATED:20220114T193340Z
LAST-MODIFIED:20220114T193340Z
UID:2749-1666206000-1666206000@springlakehts.com
SUMMARY:Planning Board Meeting
DESCRIPTION:
URL:https://springlakehts.com/event/planning-board-meeting-21/
LOCATION:To Be Determined
CATEGORIES:Land Use Board
END:VEVENT
BEGIN:VEVENT
DTSTART;TZID=America/New_York:20221012T190000
DTEND;TZID=America/New_York:20221012T190000
DTSTAMP:20260425T231812
CREATED:20220114T193257Z
LAST-MODIFIED:20220114T193257Z
UID:2747-1665601200-1665601200@springlakehts.com
SUMMARY:Planning Board Meeting
DESCRIPTION:
URL:https://springlakehts.com/event/planning-board-meeting-20/
LOCATION:To Be Determined
CATEGORIES:Land Use Board
END:VEVENT
BEGIN:VEVENT
DTSTART;TZID=America/New_York:20220921T190000
DTEND;TZID=America/New_York:20220921T190000
DTSTAMP:20260425T231812
CREATED:20220114T193218Z
LAST-MODIFIED:20220114T193218Z
UID:2745-1663786800-1663786800@springlakehts.com
SUMMARY:Planning Board Meeting
DESCRIPTION:
URL:https://springlakehts.com/event/planning-board-meeting-19/
LOCATION:To Be Determined
CATEGORIES:Land Use Board
END:VEVENT
BEGIN:VEVENT
DTSTART;TZID=America/New_York:20220914T190000
DTEND;TZID=America/New_York:20220914T190000
DTSTAMP:20260425T231812
CREATED:20220114T193145Z
LAST-MODIFIED:20220114T193145Z
UID:2743-1663182000-1663182000@springlakehts.com
SUMMARY:Planning Board Meeting
DESCRIPTION:
URL:https://springlakehts.com/event/planning-board-meeting-18/
LOCATION:To Be Determined
CATEGORIES:Land Use Board
END:VEVENT
BEGIN:VEVENT
DTSTART;TZID=America/New_York:20220817T190000
DTEND;TZID=America/New_York:20220817T190000
DTSTAMP:20260425T231812
CREATED:20220114T193106Z
LAST-MODIFIED:20220817T182912Z
UID:2741-1660762800-1660762800@springlakehts.com
SUMMARY:Planning Board Meeting - Cancelled
DESCRIPTION:
URL:https://springlakehts.com/event/planning-board-meeting-17/
LOCATION:To Be Determined
CATEGORIES:Land Use Board
END:VEVENT
BEGIN:VEVENT
DTSTART;TZID=America/New_York:20220810T190000
DTEND;TZID=America/New_York:20220810T190000
DTSTAMP:20260425T231812
CREATED:20220114T192932Z
LAST-MODIFIED:20220114T192932Z
UID:2739-1660158000-1660158000@springlakehts.com
SUMMARY:Planning Board Meeting
DESCRIPTION:
URL:https://springlakehts.com/event/planning-board-meeting-16/
LOCATION:To Be Determined
CATEGORIES:Land Use Board
END:VEVENT
BEGIN:VEVENT
DTSTART;TZID=America/New_York:20220720T190000
DTEND;TZID=America/New_York:20220720T190000
DTSTAMP:20260425T231812
CREATED:20220114T192808Z
LAST-MODIFIED:20220114T192808Z
UID:2735-1658343600-1658343600@springlakehts.com
SUMMARY:Planning Board Meeting
DESCRIPTION:
URL:https://springlakehts.com/event/planning-board-meeting-14/
LOCATION:To Be Determined
CATEGORIES:Land Use Board
END:VEVENT
BEGIN:VEVENT
DTSTART;TZID=America/New_York:20220713T190000
DTEND;TZID=America/New_York:20220713T190000
DTSTAMP:20260425T231812
CREATED:20220114T192722Z
LAST-MODIFIED:20220616T205325Z
UID:2733-1657738800-1657738800@springlakehts.com
SUMMARY:Planning Board Meeting - Cancelled
DESCRIPTION:
URL:https://springlakehts.com/event/planning-board-meeting-13/
LOCATION:To Be Determined
CATEGORIES:Land Use Board
END:VEVENT
BEGIN:VEVENT
DTSTART;TZID=America/New_York:20220615T190000
DTEND;TZID=America/New_York:20220615T190000
DTSTAMP:20260425T231812
CREATED:20220114T192649Z
LAST-MODIFIED:20220531T185638Z
UID:2731-1655319600-1655319600@springlakehts.com
SUMMARY:Planning Board Meeting
DESCRIPTION:
URL:https://springlakehts.com/event/planning-board-meeting-12/
LOCATION:Municipal Building\, 555 Brighton Avenue\, Sprink Lake Heights\, NJ\, United States
CATEGORIES:Land Use Board
END:VEVENT
BEGIN:VEVENT
DTSTART;TZID=America/New_York:20220608T190000
DTEND;TZID=America/New_York:20220608T190000
DTSTAMP:20260425T231812
CREATED:20220114T192604Z
LAST-MODIFIED:20220520T150418Z
UID:2729-1654714800-1654714800@springlakehts.com
SUMMARY:Planning Board Meeting
DESCRIPTION:
URL:https://springlakehts.com/event/planning-board-meeting-11/
LOCATION:Municipal Building\, 555 Brighton Avenue\, Sprink Lake Heights\, NJ\, United States
CATEGORIES:Land Use Board
END:VEVENT
BEGIN:VEVENT
DTSTART;TZID=America/New_York:20220518T190000
DTEND;TZID=America/New_York:20220518T190000
DTSTAMP:20260425T231812
CREATED:20220114T192517Z
LAST-MODIFIED:20220506T184955Z
UID:2727-1652900400-1652900400@springlakehts.com
SUMMARY:Planning Board Meeting - Cancelled
DESCRIPTION:
URL:https://springlakehts.com/event/planning-board-meeting-10/
LOCATION:To Be Determined
CATEGORIES:Land Use Board
END:VEVENT
BEGIN:VEVENT
DTSTART;TZID=America/New_York:20220511T190000
DTEND;TZID=America/New_York:20220511T190000
DTSTAMP:20260425T231812
CREATED:20220114T192421Z
LAST-MODIFIED:20220426T171100Z
UID:2725-1652295600-1652295600@springlakehts.com
SUMMARY:Planning Board Meeting - Cancelled
DESCRIPTION:
URL:https://springlakehts.com/event/planning-board-meeting-9/
LOCATION:To Be Determined
CATEGORIES:Land Use Board
END:VEVENT
BEGIN:VEVENT
DTSTART;TZID=America/New_York:20220420T190000
DTEND;TZID=America/New_York:20220420T190000
DTSTAMP:20260425T231812
CREATED:20220114T192322Z
LAST-MODIFIED:20220114T192322Z
UID:2723-1650481200-1650481200@springlakehts.com
SUMMARY:Planning Board Meeting
DESCRIPTION:
URL:https://springlakehts.com/event/planning-board-meeting-8/
LOCATION:To Be Determined
CATEGORIES:Land Use Board
END:VEVENT
BEGIN:VEVENT
DTSTART;TZID=America/New_York:20220413T190000
DTEND;TZID=America/New_York:20220413T190000
DTSTAMP:20260425T231812
CREATED:20220114T192239Z
LAST-MODIFIED:20220114T192239Z
UID:2721-1649876400-1649876400@springlakehts.com
SUMMARY:Planning Board Meeting
DESCRIPTION:
URL:https://springlakehts.com/event/planning-board-meeting-7/
LOCATION:To Be Determined
CATEGORIES:Land Use Board
END:VEVENT
BEGIN:VEVENT
DTSTART;TZID=America/New_York:20220316T190000
DTEND;TZID=America/New_York:20220316T190000
DTSTAMP:20260425T231812
CREATED:20220114T191511Z
LAST-MODIFIED:20220114T192117Z
UID:2713-1647457200-1647457200@springlakehts.com
SUMMARY:Planning Board Meeting
DESCRIPTION:
URL:https://springlakehts.com/event/planning-board-meeting-6/
LOCATION:To Be Determined
CATEGORIES:Land Use Board
END:VEVENT
BEGIN:VEVENT
DTSTART;TZID=America/New_York:20220309T190000
DTEND;TZID=America/New_York:20220309T190000
DTSTAMP:20260425T231812
CREATED:20220114T191437Z
LAST-MODIFIED:20220309T210854Z
UID:2711-1646852400-1646852400@springlakehts.com
SUMMARY:Planning Board Meeting - Meeting Cancelled
DESCRIPTION:
URL:https://springlakehts.com/event/planning-board-meeting-5/
LOCATION:To Be Determined
CATEGORIES:Land Use Board
END:VEVENT
BEGIN:VEVENT
DTSTART;TZID=America/New_York:20220216T190000
DTEND;TZID=America/New_York:20220216T190000
DTSTAMP:20260425T231812
CREATED:20220113T215129Z
LAST-MODIFIED:20220215T162447Z
UID:2667-1645038000-1645038000@springlakehts.com
SUMMARY:Planning Board Meeting - Meeting Cancelled
DESCRIPTION:
URL:https://springlakehts.com/event/planning-board-meeting-4/
LOCATION:To Be Determined
CATEGORIES:Land Use Board
END:VEVENT
BEGIN:VEVENT
DTSTART;TZID=America/New_York:20220209T190000
DTEND;TZID=America/New_York:20220209T190000
DTSTAMP:20260425T231812
CREATED:20220113T215038Z
LAST-MODIFIED:20220207T145405Z
UID:2665-1644433200-1644433200@springlakehts.com
SUMMARY:Planning Board Meeting - Meeting Cancelled
DESCRIPTION:
URL:https://springlakehts.com/event/planning-board-meeting-3/
LOCATION:To Be Determined
CATEGORIES:Land Use Board
END:VEVENT
BEGIN:VEVENT
DTSTART;TZID=America/New_York:20220119T190000
DTEND;TZID=America/New_York:20220119T190000
DTSTAMP:20260425T231812
CREATED:20220113T212250Z
LAST-MODIFIED:20220114T140428Z
UID:2656-1642618800-1642618800@springlakehts.com
SUMMARY:Cancelled - Planning Board Meeting
DESCRIPTION:
URL:https://springlakehts.com/event/planning-board-meeting-2/
LOCATION:Municipal Building\, 555 Brighton Avenue\, Sprink Lake Heights\, NJ\, United States
CATEGORIES:Land Use Board
END:VEVENT
BEGIN:VEVENT
DTSTART;TZID=America/New_York:20220112T190000
DTEND;TZID=America/New_York:20220112T190000
DTSTAMP:20260425T231812
CREATED:20220113T211645Z
LAST-MODIFIED:20220113T211645Z
UID:2654-1642014000-1642014000@springlakehts.com
SUMMARY:Planning Board Meeting
DESCRIPTION:
URL:https://springlakehts.com/event/planning-board-meeting/
LOCATION:Municipal Building\, 555 Brighton Avenue\, Sprink Lake Heights\, NJ\, United States
CATEGORIES:Land Use Board
END:VEVENT
END:VCALENDAR