BEGIN:VCALENDAR
VERSION:2.0
PRODID:-//Spring Lake Heights New Jersey - ECPv6.15.3//NONSGML v1.0//EN
CALSCALE:GREGORIAN
METHOD:PUBLISH
X-WR-CALNAME:Spring Lake Heights New Jersey
X-ORIGINAL-URL:https://springlakehts.com
X-WR-CALDESC:Events for Spring Lake Heights New Jersey
REFRESH-INTERVAL;VALUE=DURATION:PT1H
X-Robots-Tag:noindex
X-PUBLISHED-TTL:PT1H
BEGIN:VTIMEZONE
TZID:America/New_York
BEGIN:DAYLIGHT
TZOFFSETFROM:-0500
TZOFFSETTO:-0400
TZNAME:EDT
DTSTART:20230312T070000
END:DAYLIGHT
BEGIN:STANDARD
TZOFFSETFROM:-0400
TZOFFSETTO:-0500
TZNAME:EST
DTSTART:20231105T060000
END:STANDARD
BEGIN:DAYLIGHT
TZOFFSETFROM:-0500
TZOFFSETTO:-0400
TZNAME:EDT
DTSTART:20240310T070000
END:DAYLIGHT
BEGIN:STANDARD
TZOFFSETFROM:-0400
TZOFFSETTO:-0500
TZNAME:EST
DTSTART:20241103T060000
END:STANDARD
END:VTIMEZONE
BEGIN:VEVENT
DTSTART;TZID=America/New_York:20240506T190000
DTEND;TZID=America/New_York:20240506T190000
DTSTAMP:20260424T091332
CREATED:20240213T175034Z
LAST-MODIFIED:20240213T175034Z
UID:5352-1715022000-1715022000@springlakehts.com
SUMMARY:Borough Council Meeting
DESCRIPTION:
URL:https://springlakehts.com/event/borough-council-meeting-44/
LOCATION:Municipal Building\, 555 Brighton Avenue\, Sprink Lake Heights\, NJ\, United States
CATEGORIES:Borough Council Meetings
END:VEVENT
BEGIN:VEVENT
DTSTART;TZID=America/New_York:20240417T190000
DTEND;TZID=America/New_York:20240417T190000
DTSTAMP:20260424T091332
CREATED:20240213T185958Z
LAST-MODIFIED:20240213T185958Z
UID:5389-1713380400-1713380400@springlakehts.com
SUMMARY:Land Use Board Meeting
DESCRIPTION:
URL:https://springlakehts.com/event/land-use-board-meeting-26/
LOCATION:Municipal Building\, 555 Brighton Avenue\, Sprink Lake Heights\, NJ\, United States
CATEGORIES:Land Use Board
END:VEVENT
BEGIN:VEVENT
DTSTART;TZID=America/New_York:20240415T190000
DTEND;TZID=America/New_York:20240415T190000
DTSTAMP:20260424T091332
CREATED:20240213T171404Z
LAST-MODIFIED:20240213T171404Z
UID:5350-1713207600-1713207600@springlakehts.com
SUMMARY:Borough Council Meeting
DESCRIPTION:
URL:https://springlakehts.com/event/borough-council-meeting-43/
LOCATION:Municipal Building\, 555 Brighton Avenue\, Sprink Lake Heights\, NJ\, United States
CATEGORIES:Borough Council Meetings
END:VEVENT
BEGIN:VEVENT
DTSTART;TZID=America/New_York:20240410T190000
DTEND;TZID=America/New_York:20240410T190000
DTSTAMP:20260424T091332
CREATED:20240213T185912Z
LAST-MODIFIED:20240405T155117Z
UID:5387-1712775600-1712775600@springlakehts.com
SUMMARY:Land Use Board Meeting - Cancelled
DESCRIPTION:
URL:https://springlakehts.com/event/land-use-board-meeting-25/
LOCATION:Municipal Building\, 555 Brighton Avenue\, Sprink Lake Heights\, NJ\, United States
CATEGORIES:Land Use Board
END:VEVENT
BEGIN:VEVENT
DTSTART;TZID=America/New_York:20240401T190000
DTEND;TZID=America/New_York:20240401T193000
DTSTAMP:20260424T091332
CREATED:20240213T165040Z
LAST-MODIFIED:20240213T165040Z
UID:5348-1711998000-1711999800@springlakehts.com
SUMMARY:Borough Council Meeting
DESCRIPTION:
URL:https://springlakehts.com/event/borough-council-meeting-42/
LOCATION:Municipal Building\, 555 Brighton Avenue\, Sprink Lake Heights\, NJ\, United States
CATEGORIES:Borough Council Meetings
END:VEVENT
BEGIN:VEVENT
DTSTART;TZID=America/New_York:20240330T120000
DTEND;TZID=America/New_York:20240330T123000
DTSTAMP:20260424T091332
CREATED:20240311T183057Z
LAST-MODIFIED:20240313T141204Z
UID:5517-1711800000-1711801800@springlakehts.com
SUMMARY:Easter Egg Hunt
DESCRIPTION:
URL:https://springlakehts.com/event/easter-egg-hunt-2/
LOCATION:Joseph E. Robertson Park (Allaire Rd)\, 1100 Allaire Rd\, Spring Lake Heights\, NJ\, 07762\, United States
CATEGORIES:General Events
END:VEVENT
BEGIN:VEVENT
DTSTART;VALUE=DATE:20240329
DTEND;VALUE=DATE:20240330
DTSTAMP:20260424T091332
CREATED:20240214T172326Z
LAST-MODIFIED:20240214T172326Z
UID:5430-1711670400-1711756799@springlakehts.com
SUMMARY:Holiday - Offices Closed
DESCRIPTION:Borough Hall and DPW Yard Closed
URL:https://springlakehts.com/event/holiday-offices-closed-23/
LOCATION:NJ
CATEGORIES:General Events
END:VEVENT
BEGIN:VEVENT
DTSTART;TZID=America/New_York:20240320T190000
DTEND;TZID=America/New_York:20240320T190000
DTSTAMP:20260424T091332
CREATED:20240213T185720Z
LAST-MODIFIED:20240213T185720Z
UID:5385-1710961200-1710961200@springlakehts.com
SUMMARY:Land Use Board Meeting
DESCRIPTION:
URL:https://springlakehts.com/event/land-use-board-meeting-24/
LOCATION:Municipal Building\, 555 Brighton Avenue\, Sprink Lake Heights\, NJ\, United States
CATEGORIES:Land Use Board
END:VEVENT
BEGIN:VEVENT
DTSTART;TZID=America/New_York:20240318T190000
DTEND;TZID=America/New_York:20240318T190000
DTSTAMP:20260424T091332
CREATED:20240213T164750Z
LAST-MODIFIED:20240213T164750Z
UID:5346-1710788400-1710788400@springlakehts.com
SUMMARY:Borough Council Meeting
DESCRIPTION:
URL:https://springlakehts.com/event/borough-council-meeting-41/
LOCATION:Municipal Building\, 555 Brighton Avenue\, Sprink Lake Heights\, NJ\, United States
CATEGORIES:Borough Council Meetings
END:VEVENT
BEGIN:VEVENT
DTSTART;TZID=America/New_York:20240313T190000
DTEND;TZID=America/New_York:20240313T190000
DTSTAMP:20260424T091332
CREATED:20240213T185259Z
LAST-MODIFIED:20240213T185404Z
UID:5383-1710356400-1710356400@springlakehts.com
SUMMARY:Land Use Board Meeting
DESCRIPTION:
URL:https://springlakehts.com/event/land-use-board-meeting-23/
LOCATION:Municipal Building\, 555 Brighton Avenue\, Sprink Lake Heights\, NJ\, United States
CATEGORIES:Land Use Board
END:VEVENT
BEGIN:VEVENT
DTSTART;TZID=America/New_York:20240304T190000
DTEND;TZID=America/New_York:20240304T190000
DTSTAMP:20260424T091332
CREATED:20240213T164616Z
LAST-MODIFIED:20240213T164616Z
UID:5344-1709578800-1709578800@springlakehts.com
SUMMARY:Borough Council Meeting
DESCRIPTION:
URL:https://springlakehts.com/event/borough-council-meeting-40/
LOCATION:Municipal Building\, 555 Brighton Avenue\, Sprink Lake Heights\, NJ\, United States
CATEGORIES:Borough Council Meetings
END:VEVENT
BEGIN:VEVENT
DTSTART;TZID=America/New_York:20240221T190000
DTEND;TZID=America/New_York:20240221T190000
DTSTAMP:20260424T091332
CREATED:20240213T185127Z
LAST-MODIFIED:20240213T185127Z
UID:5381-1708542000-1708542000@springlakehts.com
SUMMARY:Land Use Board Meeting
DESCRIPTION:
URL:https://springlakehts.com/event/land-use-board-meeting-22/
LOCATION:Municipal Building\, 555 Brighton Avenue\, Sprink Lake Heights\, NJ\, United States
CATEGORIES:Land Use Board
END:VEVENT
BEGIN:VEVENT
DTSTART;TZID=America/New_York:20240220T190000
DTEND;TZID=America/New_York:20240220T190000
DTSTAMP:20260424T091332
CREATED:20240213T164542Z
LAST-MODIFIED:20240213T211345Z
UID:5342-1708455600-1708455600@springlakehts.com
SUMMARY:Borough Council Meeting - Cancelled
DESCRIPTION:
URL:https://springlakehts.com/event/borough-council-meeting-39/
LOCATION:Municipal Building\, 555 Brighton Avenue\, Sprink Lake Heights\, NJ\, United States
CATEGORIES:Borough Council Meetings
END:VEVENT
BEGIN:VEVENT
DTSTART;VALUE=DATE:20240219
DTEND;VALUE=DATE:20240220
DTSTAMP:20260424T091332
CREATED:20240214T171730Z
LAST-MODIFIED:20240214T171730Z
UID:5428-1708300800-1708387199@springlakehts.com
SUMMARY:Holiday - Offices Closed
DESCRIPTION:Borough Hall and DPW Yard Closed
URL:https://springlakehts.com/event/holiday-offices-closed-22/
LOCATION:NJ
CATEGORIES:General Events
END:VEVENT
BEGIN:VEVENT
DTSTART;TZID=America/New_York:20240214T190000
DTEND;TZID=America/New_York:20240214T190000
DTSTAMP:20260424T091332
CREATED:20240213T184800Z
LAST-MODIFIED:20240213T184800Z
UID:5379-1707937200-1707937200@springlakehts.com
SUMMARY:Land Use Board Meeting - Cancelled
DESCRIPTION:
URL:https://springlakehts.com/event/land-use-board-meeting-cancelled/
LOCATION:Municipal Building\, 555 Brighton Avenue\, Sprink Lake Heights\, NJ\, United States
CATEGORIES:Land Use Board
END:VEVENT
BEGIN:VEVENT
DTSTART;TZID=America/New_York:20240205T190000
DTEND;TZID=America/New_York:20240205T190000
DTSTAMP:20260424T091332
CREATED:20240213T180838Z
LAST-MODIFIED:20240213T180838Z
UID:5376-1707159600-1707159600@springlakehts.com
SUMMARY:Borough Council Meeting
DESCRIPTION:
URL:https://springlakehts.com/event/borough-council-meeting-56/
LOCATION:Municipal Building\, 555 Brighton Avenue\, Sprink Lake Heights\, NJ\, United States
CATEGORIES:Borough Council Meetings
END:VEVENT
BEGIN:VEVENT
DTSTART;TZID=America/New_York:20240117T190000
DTEND;TZID=America/New_York:20240117T190000
DTSTAMP:20260424T091332
CREATED:20230113T201716Z
LAST-MODIFIED:20230113T201716Z
UID:4326-1705518000-1705518000@springlakehts.com
SUMMARY:Land Use Board Meeting
DESCRIPTION:
URL:https://springlakehts.com/event/land-use-board-meeting-21/
LOCATION:Municipal Building\, 555 Brighton Avenue\, Sprink Lake Heights\, NJ\, United States
CATEGORIES:Land Use Board
END:VEVENT
BEGIN:VEVENT
DTSTART;TZID=America/New_York:20240110T190000
DTEND;TZID=America/New_York:20240110T190000
DTSTAMP:20260424T091332
CREATED:20230113T201615Z
LAST-MODIFIED:20230113T201615Z
UID:4324-1704913200-1704913200@springlakehts.com
SUMMARY:Land Use Board Meeting
DESCRIPTION:
URL:https://springlakehts.com/event/land-use-board-meeting-20/
LOCATION:Municipal Building\, 555 Brighton Avenue\, Sprink Lake Heights\, NJ\, United States
CATEGORIES:Land Use Board
END:VEVENT
BEGIN:VEVENT
DTSTART;TZID=America/New_York:20240101T120000
DTEND;TZID=America/New_York:20240101T130000
DTSTAMP:20260424T091332
CREATED:20231213T200938Z
LAST-MODIFIED:20231213T202543Z
UID:5223-1704110400-1704114000@springlakehts.com
SUMMARY:2024 Reorganization Meeting
DESCRIPTION:Public Notice – 2024 Reorganization Meeting Notice (pdf)
URL:https://springlakehts.com/event/2024-reorganization-meeting/
LOCATION:Municipal Building\, 555 Brighton Avenue\, Sprink Lake Heights\, NJ\, United States
CATEGORIES:General Events
END:VEVENT
BEGIN:VEVENT
DTSTART;VALUE=DATE:20231225
DTEND;VALUE=DATE:20231227
DTSTAMP:20260424T091332
CREATED:20221228T181937Z
LAST-MODIFIED:20221228T181937Z
UID:4156-1703462400-1703635199@springlakehts.com
SUMMARY:Holiday – Offices Closed
DESCRIPTION:Borough Hall and DPW Yard Closed
URL:https://springlakehts.com/event/holiday-offices-closed-21/
LOCATION:NJ
CATEGORIES:General Events
END:VEVENT
BEGIN:VEVENT
DTSTART;TZID=America/New_York:20231218T190000
DTEND;TZID=America/New_York:20231218T190000
DTSTAMP:20260424T091332
CREATED:20230110T190921Z
LAST-MODIFIED:20230110T190921Z
UID:4259-1702926000-1702926000@springlakehts.com
SUMMARY:Borough Council Meeting
DESCRIPTION:
URL:https://springlakehts.com/event/borough-council-meeting-38/
LOCATION:Municipal Building\, 555 Brighton Avenue\, Sprink Lake Heights\, NJ\, United States
CATEGORIES:Borough Council Meetings,General Events
END:VEVENT
BEGIN:VEVENT
DTSTART;TZID=America/New_York:20231213T190000
DTEND;TZID=America/New_York:20231213T190000
DTSTAMP:20260424T091332
CREATED:20230113T201353Z
LAST-MODIFIED:20230113T201353Z
UID:4322-1702494000-1702494000@springlakehts.com
SUMMARY:Land Use Board Meeting
DESCRIPTION:
URL:https://springlakehts.com/event/land-use-board-meeting-19/
LOCATION:Municipal Building\, 555 Brighton Avenue\, Sprink Lake Heights\, NJ\, United States
CATEGORIES:Land Use Board
END:VEVENT
BEGIN:VEVENT
DTSTART;TZID=America/New_York:20231207T180000
DTEND;TZID=America/New_York:20231207T190000
DTSTAMP:20260424T091332
CREATED:20221228T182030Z
LAST-MODIFIED:20231130T151815Z
UID:4158-1701972000-1701975600@springlakehts.com
SUMMARY:SLH Annual Tree Lighting
DESCRIPTION:
URL:https://springlakehts.com/event/slh-annual-tree-lighting/
LOCATION:Municipal Building\, 555 Brighton Avenue\, Sprink Lake Heights\, NJ\, United States
CATEGORIES:General Events
END:VEVENT
BEGIN:VEVENT
DTSTART;VALUE=DATE:20231124
DTEND;VALUE=DATE:20231125
DTSTAMP:20260424T091332
CREATED:20221228T181851Z
LAST-MODIFIED:20221228T181851Z
UID:4154-1700784000-1700870399@springlakehts.com
SUMMARY:Holiday – Offices Closed
DESCRIPTION:Borough Hall and DPW Yard Closed
URL:https://springlakehts.com/event/holiday-offices-closed-20/
LOCATION:NJ
CATEGORIES:General Events
END:VEVENT
BEGIN:VEVENT
DTSTART;VALUE=DATE:20231123
DTEND;VALUE=DATE:20231124
DTSTAMP:20260424T091332
CREATED:20221228T181810Z
LAST-MODIFIED:20221228T181810Z
UID:4152-1700697600-1700783999@springlakehts.com
SUMMARY:Holiday – Offices Closed
DESCRIPTION:Borough Hall and DPW Yard Closed
URL:https://springlakehts.com/event/holiday-offices-closed-19/
LOCATION:NJ
CATEGORIES:General Events
END:VEVENT
BEGIN:VEVENT
DTSTART;TZID=America/New_York:20231120T190000
DTEND;TZID=America/New_York:20231120T190000
DTSTAMP:20260424T091332
CREATED:20230110T190846Z
LAST-MODIFIED:20230110T190846Z
UID:4257-1700506800-1700506800@springlakehts.com
SUMMARY:Borough Council Meeting
DESCRIPTION:
URL:https://springlakehts.com/event/borough-council-meeting-37/
LOCATION:Municipal Building\, 555 Brighton Avenue\, Sprink Lake Heights\, NJ\, United States
CATEGORIES:Borough Council Meetings,General Events
END:VEVENT
BEGIN:VEVENT
DTSTART;TZID=America/New_York:20231111T090000
DTEND;TZID=America/New_York:20231111T093000
DTSTAMP:20260424T091332
CREATED:20231109T213205Z
LAST-MODIFIED:20231109T213205Z
UID:5149-1699693200-1699695000@springlakehts.com
SUMMARY:Veterans Day Ceremony
DESCRIPTION:
URL:https://springlakehts.com/event/veterans-day-ceremony/
LOCATION:NJ
CATEGORIES:General Events
END:VEVENT
BEGIN:VEVENT
DTSTART;TZID=America/New_York:20231110T120000
DTEND;TZID=America/New_York:20231110T150000
DTSTAMP:20260424T091332
CREATED:20231023T173046Z
LAST-MODIFIED:20231023T185014Z
UID:5091-1699617600-1699628400@springlakehts.com
SUMMARY:Veterans Day Luncheon
DESCRIPTION:
URL:https://springlakehts.com/event/veterans-day-luncheon/
LOCATION:NJ
CATEGORIES:General Events
END:VEVENT
BEGIN:VEVENT
DTSTART;TZID=America/New_York:20231108T190000
DTEND;TZID=America/New_York:20231108T190000
DTSTAMP:20260424T091332
CREATED:20230113T201243Z
LAST-MODIFIED:20230113T201243Z
UID:4320-1699470000-1699470000@springlakehts.com
SUMMARY:Land Use Board Meeting
DESCRIPTION:
URL:https://springlakehts.com/event/land-use-board-meeting-18/
LOCATION:Municipal Building\, 555 Brighton Avenue\, Sprink Lake Heights\, NJ\, United States
CATEGORIES:Land Use Board
END:VEVENT
BEGIN:VEVENT
DTSTART;VALUE=DATE:20231107
DTEND;VALUE=DATE:20231108
DTSTAMP:20260424T091332
CREATED:20221228T183247Z
LAST-MODIFIED:20221228T183247Z
UID:4172-1699315200-1699401599@springlakehts.com
SUMMARY:General Election
DESCRIPTION:
URL:https://springlakehts.com/event/general-election/
LOCATION:NJ
CATEGORIES:General Events
END:VEVENT
END:VCALENDAR