BEGIN:VCALENDAR
VERSION:2.0
PRODID:-//Spring Lake Heights New Jersey - ECPv6.15.3//NONSGML v1.0//EN
CALSCALE:GREGORIAN
METHOD:PUBLISH
X-WR-CALNAME:Spring Lake Heights New Jersey
X-ORIGINAL-URL:https://springlakehts.com
X-WR-CALDESC:Events for Spring Lake Heights New Jersey
REFRESH-INTERVAL;VALUE=DURATION:PT1H
X-Robots-Tag:noindex
X-PUBLISHED-TTL:PT1H
BEGIN:VTIMEZONE
TZID:America/New_York
BEGIN:DAYLIGHT
TZOFFSETFROM:-0500
TZOFFSETTO:-0400
TZNAME:EDT
DTSTART:20230312T070000
END:DAYLIGHT
BEGIN:STANDARD
TZOFFSETFROM:-0400
TZOFFSETTO:-0500
TZNAME:EST
DTSTART:20231105T060000
END:STANDARD
END:VTIMEZONE
BEGIN:VEVENT
DTSTART;TZID=America/New_York:20230717T190000
DTEND;TZID=America/New_York:20230717T190000
DTSTAMP:20260425T103818
CREATED:20230110T190317Z
LAST-MODIFIED:20230110T190317Z
UID:4245-1689620400-1689620400@springlakehts.com
SUMMARY:Borough Council Meeting
DESCRIPTION:
URL:https://springlakehts.com/event/borough-council-meeting-31/
LOCATION:Municipal Building\, 555 Brighton Avenue\, Sprink Lake Heights\, NJ\, United States
CATEGORIES:Borough Council Meetings,General Events
END:VEVENT
BEGIN:VEVENT
DTSTART;TZID=America/New_York:20230712T190000
DTEND;TZID=America/New_York:20230712T190000
DTSTAMP:20260425T103818
CREATED:20230113T194033Z
LAST-MODIFIED:20230710T134914Z
UID:4306-1689188400-1689188400@springlakehts.com
SUMMARY:Land Use Board Meeting - Meeting Cancelled
DESCRIPTION:
URL:https://springlakehts.com/event/land-use-board-meeting-11/
LOCATION:Municipal Building\, 555 Brighton Avenue\, Sprink Lake Heights\, NJ\, United States
CATEGORIES:Land Use Board
END:VEVENT
BEGIN:VEVENT
DTSTART;TZID=America/New_York:20230709T080000
DTEND;TZID=America/New_York:20230709T120000
DTSTAMP:20260425T103818
CREATED:20221228T182938Z
LAST-MODIFIED:20221228T182938Z
UID:4166-1688889600-1688904000@springlakehts.com
SUMMARY:Fire Company Pancake Breakfast
DESCRIPTION:
URL:https://springlakehts.com/event/fire-company-pancake-breakfast-5/
LOCATION:Independent Fire Company #1\, 700 6th Ave\, Spring Lake Heights\, NJ\, 07762\, United States
CATEGORIES:General Events
END:VEVENT
BEGIN:VEVENT
DTSTART;VALUE=DATE:20230704
DTEND;VALUE=DATE:20230705
DTSTAMP:20260425T103818
CREATED:20221228T181532Z
LAST-MODIFIED:20230703T174806Z
UID:4146-1688428800-1688515199@springlakehts.com
SUMMARY:Holiday – Offices Closed
DESCRIPTION:Borough Hall and DPW Yard Closed
URL:https://springlakehts.com/event/holiday-offices-closed-16/
CATEGORIES:General Events
END:VEVENT
BEGIN:VEVENT
DTSTART;TZID=America/New_York:20230621T190000
DTEND;TZID=America/New_York:20230621T190000
DTSTAMP:20260425T103818
CREATED:20230113T193313Z
LAST-MODIFIED:20230113T193338Z
UID:4304-1687374000-1687374000@springlakehts.com
SUMMARY:Land Use Board Meeting
DESCRIPTION:
URL:https://springlakehts.com/event/land-use-board-meeting-10/
LOCATION:Municipal Building\, 555 Brighton Avenue\, Sprink Lake Heights\, NJ\, United States
CATEGORIES:Land Use Board
END:VEVENT
BEGIN:VEVENT
DTSTART;TZID=America/New_York:20230619T190000
DTEND;TZID=America/New_York:20230619T190000
DTSTAMP:20260425T103818
CREATED:20230110T190001Z
LAST-MODIFIED:20230110T190001Z
UID:4243-1687201200-1687201200@springlakehts.com
SUMMARY:Borough Council Meeting
DESCRIPTION:
URL:https://springlakehts.com/event/borough-council-meeting-30/
LOCATION:Municipal Building\, 555 Brighton Avenue\, Sprink Lake Heights\, NJ\, United States
CATEGORIES:Borough Council Meetings,General Events
END:VEVENT
BEGIN:VEVENT
DTSTART;TZID=America/New_York:20230614T190000
DTEND;TZID=America/New_York:20230614T190000
DTSTAMP:20260425T103818
CREATED:20230113T193103Z
LAST-MODIFIED:20230113T193103Z
UID:4302-1686769200-1686769200@springlakehts.com
SUMMARY:Land Use Board Meeting
DESCRIPTION:
URL:https://springlakehts.com/event/land-use-board-meeting-9/
LOCATION:Municipal Building\, 555 Brighton Avenue\, Sprink Lake Heights\, NJ\, United States
CATEGORIES:Land Use Board
END:VEVENT
BEGIN:VEVENT
DTSTART;TZID=America/New_York:20230614T080000
DTEND;TZID=America/New_York:20230614T170000
DTSTAMP:20260425T103818
CREATED:20230614T222344Z
LAST-MODIFIED:20230614T222344Z
UID:4589-1686729600-1686762000@springlakehts.com
SUMMARY:Land Use Board June 14\, 2023 Meeting Cancelled
DESCRIPTION:SLH LUB 6_14_23 Meeting Cancelled
URL:https://springlakehts.com/event/land-use-board-june-14-2023-meeting-cancelled/
CATEGORIES:Land Use Board
END:VEVENT
BEGIN:VEVENT
DTSTART;TZID=America/New_York:20230611T080000
DTEND;TZID=America/New_York:20230611T120000
DTSTAMP:20260425T103818
CREATED:20221228T183105Z
LAST-MODIFIED:20221228T183105Z
UID:4168-1686470400-1686484800@springlakehts.com
SUMMARY:Fire Company Pancake Breakfast
DESCRIPTION:
URL:https://springlakehts.com/event/fire-company-pancake-breakfast-6/
LOCATION:Independent Fire Company #1\, 700 6th Ave\, Spring Lake Heights\, NJ\, 07762\, United States
CATEGORIES:General Events
END:VEVENT
BEGIN:VEVENT
DTSTART;VALUE=DATE:20230606
DTEND;VALUE=DATE:20230607
DTSTAMP:20260425T103818
CREATED:20221228T183201Z
LAST-MODIFIED:20221228T183201Z
UID:4170-1686009600-1686095999@springlakehts.com
SUMMARY:Primary Election
DESCRIPTION:
URL:https://springlakehts.com/event/primary-election/
CATEGORIES:General Events
END:VEVENT
BEGIN:VEVENT
DTSTART;TZID=America/New_York:20230605T190000
DTEND;TZID=America/New_York:20230605T190000
DTSTAMP:20260425T103818
CREATED:20230110T185918Z
LAST-MODIFIED:20230110T185918Z
UID:4241-1685991600-1685991600@springlakehts.com
SUMMARY:Borough Council Meeting
DESCRIPTION:
URL:https://springlakehts.com/event/borough-council-meeting-29/
LOCATION:Municipal Building\, 555 Brighton Avenue\, Sprink Lake Heights\, NJ\, United States
CATEGORIES:Borough Council Meetings,General Events
END:VEVENT
BEGIN:VEVENT
DTSTART;VALUE=DATE:20230529
DTEND;VALUE=DATE:20230530
DTSTAMP:20260425T103818
CREATED:20221228T181424Z
LAST-MODIFIED:20221228T181424Z
UID:4144-1685318400-1685404799@springlakehts.com
SUMMARY:Holiday – Offices Closed
DESCRIPTION:Borough Hall and DPW Yard Closed
URL:https://springlakehts.com/event/holiday-offices-closed-15/
CATEGORIES:General Events
END:VEVENT
BEGIN:VEVENT
DTSTART;TZID=America/New_York:20230517T190000
DTEND;TZID=America/New_York:20230517T190000
DTSTAMP:20260425T103818
CREATED:20230113T192654Z
LAST-MODIFIED:20230113T192654Z
UID:4300-1684350000-1684350000@springlakehts.com
SUMMARY:Land Use Board Meeting
DESCRIPTION:
URL:https://springlakehts.com/event/land-use-board-meeting-8/
LOCATION:Municipal Building\, 555 Brighton Avenue\, Sprink Lake Heights\, NJ\, United States
CATEGORIES:Land Use Board
END:VEVENT
BEGIN:VEVENT
DTSTART;TZID=America/New_York:20230515T190000
DTEND;TZID=America/New_York:20230515T190000
DTSTAMP:20260425T103818
CREATED:20230110T185804Z
LAST-MODIFIED:20230110T185804Z
UID:4239-1684177200-1684177200@springlakehts.com
SUMMARY:Borough Council Meeting
DESCRIPTION:
URL:https://springlakehts.com/event/borough-council-meeting-28/
LOCATION:Municipal Building\, 555 Brighton Avenue\, Sprink Lake Heights\, NJ\, United States
CATEGORIES:Borough Council Meetings,General Events
END:VEVENT
BEGIN:VEVENT
DTSTART;TZID=America/New_York:20230510T190000
DTEND;TZID=America/New_York:20230510T190000
DTSTAMP:20260425T103818
CREATED:20230113T192355Z
LAST-MODIFIED:20230113T192355Z
UID:4298-1683745200-1683745200@springlakehts.com
SUMMARY:Land Use Board Meeting
DESCRIPTION:
URL:https://springlakehts.com/event/land-use-board-meeting-7/
LOCATION:Municipal Building\, 555 Brighton Avenue\, Sprink Lake Heights\, NJ\, United States
CATEGORIES:Land Use Board
END:VEVENT
BEGIN:VEVENT
DTSTART;TZID=America/New_York:20230501T190000
DTEND;TZID=America/New_York:20230501T190000
DTSTAMP:20260425T103818
CREATED:20230110T185150Z
LAST-MODIFIED:20230110T185150Z
UID:4237-1682967600-1682967600@springlakehts.com
SUMMARY:Borough Council Meeting
DESCRIPTION:
URL:https://springlakehts.com/event/borough-council-meeting-27/
LOCATION:Municipal Building\, 555 Brighton Avenue\, Sprink Lake Heights\, NJ\, United States
CATEGORIES:Borough Council Meetings,General Events
END:VEVENT
BEGIN:VEVENT
DTSTART;VALUE=DATE:20230424
DTEND;VALUE=DATE:20230625
DTSTAMP:20260425T103818
CREATED:20230424T152800Z
LAST-MODIFIED:20230424T153024Z
UID:4506-1682294400-1687651199@springlakehts.com
SUMMARY:LOW INCOME HOUSEHOLD WATER ASSISTANCE PROGRAM (LIHWAP)
DESCRIPTION:The State Low Income Household Water Assistance Program (LIHWAP) can help you pay arrears for your water and sewer bills. The program may also be able to help address tax liens due to water and sewer arrears. To get more information and apply\, go to waterassistance.nj.gov or call NJ211.  \nBill Insert
URL:https://springlakehts.com/event/low-income-household-water-assistance-program-lihwap/
CATEGORIES:General Events
END:VEVENT
BEGIN:VEVENT
DTSTART;VALUE=DATE:20230424
DTEND;VALUE=DATE:20230429
DTSTAMP:20260425T103818
CREATED:20221228T183521Z
LAST-MODIFIED:20221228T183521Z
UID:4176-1682294400-1682726399@springlakehts.com
SUMMARY:Water Main & Hydrant Flushing
DESCRIPTION:Monday through Friday 7:00pm to 4:00am
URL:https://springlakehts.com/event/water-main-hydrant-flushing-6/
CATEGORIES:General Events
END:VEVENT
BEGIN:VEVENT
DTSTART;TZID=America/New_York:20230419T190000
DTEND;TZID=America/New_York:20230419T190000
DTSTAMP:20260425T103818
CREATED:20230113T191933Z
LAST-MODIFIED:20230113T191933Z
UID:4296-1681930800-1681930800@springlakehts.com
SUMMARY:Land Use Board Meeting
DESCRIPTION:
URL:https://springlakehts.com/event/land-use-board-meeting-6/
LOCATION:Municipal Building\, 555 Brighton Avenue\, Sprink Lake Heights\, NJ\, United States
CATEGORIES:Land Use Board
END:VEVENT
BEGIN:VEVENT
DTSTART;TZID=America/New_York:20230417T190000
DTEND;TZID=America/New_York:20230417T190000
DTSTAMP:20260425T103818
CREATED:20230110T184829Z
LAST-MODIFIED:20230110T184829Z
UID:4235-1681758000-1681758000@springlakehts.com
SUMMARY:Borough Council Meeting
DESCRIPTION:
URL:https://springlakehts.com/event/borough-council-meeting-26/
LOCATION:Municipal Building\, 555 Brighton Avenue\, Sprink Lake Heights\, NJ\, United States
CATEGORIES:Borough Council Meetings,General Events
END:VEVENT
BEGIN:VEVENT
DTSTART;VALUE=DATE:20230417
DTEND;VALUE=DATE:20230422
DTSTAMP:20260425T103818
CREATED:20221228T183352Z
LAST-MODIFIED:20221228T183546Z
UID:4174-1681689600-1682121599@springlakehts.com
SUMMARY:Water Main & Hydrant Flushing
DESCRIPTION:Monday through Friday 7:00pm to 4:00am
URL:https://springlakehts.com/event/water-main-hydrant-flushing-5/
CATEGORIES:General Events
END:VEVENT
BEGIN:VEVENT
DTSTART;TZID=America/New_York:20230412T190000
DTEND;TZID=America/New_York:20230412T190000
DTSTAMP:20260425T103818
CREATED:20230113T191838Z
LAST-MODIFIED:20230113T191838Z
UID:4294-1681326000-1681326000@springlakehts.com
SUMMARY:Land Use Board Meeting
DESCRIPTION:
URL:https://springlakehts.com/event/land-use-board-meeting-5/
LOCATION:Municipal Building\, 555 Brighton Avenue\, Sprink Lake Heights\, NJ\, United States
CATEGORIES:Land Use Board
END:VEVENT
BEGIN:VEVENT
DTSTART;TZID=America/New_York:20230412T140000
DTEND;TZID=America/New_York:20230412T143000
DTSTAMP:20260425T103818
CREATED:20230412T184318Z
LAST-MODIFIED:20230412T184918Z
UID:4485-1681308000-1681309800@springlakehts.com
SUMMARY:2023 Municipal Budget Workshop April 19\, 2023 @ 2:00pm
DESCRIPTION:The municipal budget workshop will happen online on April 19\, 2023 at 2:00 pm. To join the call\, please use the information below: \n1349_certifiedintrobudget_2023 \nSpring Lake Heights Budget Workshop \nPlease join my meeting from your computer\, tablet or smartphone.\nhttps://meet.goto.com/272490149\nYou can also dial in using your phone.\nAccess Code: 272-490-149\nUnited States (Toll Free): 1 877 309 2073\n– One-touch: tel:+18773092073\,\,272490149# \nUnited States: +1 (646) 749-3129\n– One-touch: tel:+16467493129\,\,272490149# \nGet the app now and be ready when your first meeting starts:\nhttps://meet.goto.com/install
URL:https://springlakehts.com/event/2023-municipal-budget-workshop-april-19-2023-200pm/
END:VEVENT
BEGIN:VEVENT
DTSTART;VALUE=DATE:20230407
DTEND;VALUE=DATE:20230408
DTSTAMP:20260425T103818
CREATED:20221228T181305Z
LAST-MODIFIED:20221228T181305Z
UID:4142-1680825600-1680911999@springlakehts.com
SUMMARY:Holiday – Offices Closed
DESCRIPTION:Borough Hall and DPW Yard Closed
URL:https://springlakehts.com/event/holiday-offices-closed-14/
CATEGORIES:General Events
END:VEVENT
BEGIN:VEVENT
DTSTART;TZID=America/New_York:20230403T190000
DTEND;TZID=America/New_York:20230403T190000
DTSTAMP:20260425T103818
CREATED:20230110T184750Z
LAST-MODIFIED:20230110T184750Z
UID:4233-1680548400-1680548400@springlakehts.com
SUMMARY:Borough Council Meeting
DESCRIPTION:
URL:https://springlakehts.com/event/borough-council-meeting-25/
LOCATION:Municipal Building\, 555 Brighton Avenue\, Sprink Lake Heights\, NJ\, United States
CATEGORIES:Borough Council Meetings,General Events
END:VEVENT
BEGIN:VEVENT
DTSTART;TZID=America/New_York:20230328T080000
DTEND;TZID=America/New_York:20230428T170000
DTSTAMP:20260425T103818
CREATED:20230328T164047Z
LAST-MODIFIED:20230328T164047Z
UID:4453-1679990400-1682701200@springlakehts.com
SUMMARY:Mosquito Control Information
DESCRIPTION:Spraying for mosquitos will begin shortly. We have been asked to share important information with you: \nQuestions and Answers Adult Mosquito Treatments \nZenivex Adulticide Mosquito Control Product \nMerus 3.0 Adulticide Mosquito Control Product \nFYFANON EW INSECTICIDE Mosquito Control Product
URL:https://springlakehts.com/event/mosquito-control-information/
END:VEVENT
BEGIN:VEVENT
DTSTART;TZID=America/New_York:20230320T190000
DTEND;TZID=America/New_York:20230320T190000
DTSTAMP:20260425T103818
CREATED:20230110T184710Z
LAST-MODIFIED:20230110T184710Z
UID:4231-1679338800-1679338800@springlakehts.com
SUMMARY:Borough Council Meeting
DESCRIPTION:
URL:https://springlakehts.com/event/borough-council-meeting-24/
LOCATION:Municipal Building\, 555 Brighton Avenue\, Sprink Lake Heights\, NJ\, United States
CATEGORIES:Borough Council Meetings,General Events
END:VEVENT
BEGIN:VEVENT
DTSTART;TZID=America/New_York:20230315T190000
DTEND;TZID=America/New_York:20230315T190000
DTSTAMP:20260425T103818
CREATED:20230113T191711Z
LAST-MODIFIED:20230113T191711Z
UID:4292-1678906800-1678906800@springlakehts.com
SUMMARY:Land Use Board Meeting
DESCRIPTION:
URL:https://springlakehts.com/event/land-use-board-meeting-4/
LOCATION:Municipal Building\, 555 Brighton Avenue\, Sprink Lake Heights\, NJ\, United States
CATEGORIES:Land Use Board
END:VEVENT
BEGIN:VEVENT
DTSTART;TZID=America/New_York:20230308T190000
DTEND;TZID=America/New_York:20230308T190000
DTSTAMP:20260425T103818
CREATED:20230113T191015Z
LAST-MODIFIED:20230113T191015Z
UID:4290-1678302000-1678302000@springlakehts.com
SUMMARY:Land Use Board Meeting
DESCRIPTION:
URL:https://springlakehts.com/event/land-use-board-meeting-3/
LOCATION:Municipal Building\, 555 Brighton Avenue\, Sprink Lake Heights\, NJ\, United States
CATEGORIES:Land Use Board
END:VEVENT
BEGIN:VEVENT
DTSTART;TZID=America/New_York:20230306T190000
DTEND;TZID=America/New_York:20230306T190000
DTSTAMP:20260425T103818
CREATED:20230110T184632Z
LAST-MODIFIED:20230110T184632Z
UID:4229-1678129200-1678129200@springlakehts.com
SUMMARY:Borough Council Meeting
DESCRIPTION:
URL:https://springlakehts.com/event/borough-council-meeting-23/
LOCATION:Municipal Building\, 555 Brighton Avenue\, Sprink Lake Heights\, NJ\, United States
CATEGORIES:Borough Council Meetings,General Events
END:VEVENT
END:VCALENDAR