BEGIN:VCALENDAR
VERSION:2.0
PRODID:-//Spring Lake Heights New Jersey - ECPv6.15.3//NONSGML v1.0//EN
CALSCALE:GREGORIAN
METHOD:PUBLISH
X-WR-CALNAME:Spring Lake Heights New Jersey
X-ORIGINAL-URL:https://springlakehts.com
X-WR-CALDESC:Events for Spring Lake Heights New Jersey
REFRESH-INTERVAL;VALUE=DURATION:PT1H
X-Robots-Tag:noindex
X-PUBLISHED-TTL:PT1H
BEGIN:VTIMEZONE
TZID:America/New_York
BEGIN:DAYLIGHT
TZOFFSETFROM:-0500
TZOFFSETTO:-0400
TZNAME:EDT
DTSTART:20220313T070000
END:DAYLIGHT
BEGIN:STANDARD
TZOFFSETFROM:-0400
TZOFFSETTO:-0500
TZNAME:EST
DTSTART:20221106T060000
END:STANDARD
BEGIN:DAYLIGHT
TZOFFSETFROM:-0500
TZOFFSETTO:-0400
TZNAME:EDT
DTSTART:20230312T070000
END:DAYLIGHT
BEGIN:STANDARD
TZOFFSETFROM:-0400
TZOFFSETTO:-0500
TZNAME:EST
DTSTART:20231105T060000
END:STANDARD
END:VTIMEZONE
BEGIN:VEVENT
DTSTART;TZID=America/New_York:20230111T190000
DTEND;TZID=America/New_York:20230111T190000
DTSTAMP:20260425T121102
CREATED:20220114T193430Z
LAST-MODIFIED:20230110T183551Z
UID:2751-1673463600-1673463600@springlakehts.com
SUMMARY:Land Use Board Meeting
DESCRIPTION:
URL:https://springlakehts.com/event/planning-board-meeting-22/
LOCATION:Municipal Building\, 555 Brighton Avenue\, Sprink Lake Heights\, NJ\, United States
CATEGORIES:Land Use Board
END:VEVENT
BEGIN:VEVENT
DTSTART;TZID=America/New_York:20230102T120000
DTEND;TZID=America/New_York:20230102T130000
DTSTAMP:20260425T121102
CREATED:20221227T190428Z
LAST-MODIFIED:20221228T174433Z
UID:4123-1672660800-1672664400@springlakehts.com
SUMMARY:Borough Council Reorganization Meeting 2023
DESCRIPTION:
URL:https://springlakehts.com/event/borough-council-reorganization-meeting-2/
LOCATION:Municipal Building\, 555 Brighton Avenue\, Sprink Lake Heights\, NJ\, United States
CATEGORIES:General Events
END:VEVENT
BEGIN:VEVENT
DTSTART;VALUE=DATE:20230102
DTEND;VALUE=DATE:20230103
DTSTAMP:20260425T121102
CREATED:20221228T180003Z
LAST-MODIFIED:20221228T180003Z
UID:4136-1672617600-1672703999@springlakehts.com
SUMMARY:Holiday – Offices Closed
DESCRIPTION:Borough Hall and DPW Yard Closed
URL:https://springlakehts.com/event/holiday-offices-closed-11/
LOCATION:NJ
CATEGORIES:General Events
END:VEVENT
BEGIN:VEVENT
DTSTART;VALUE=DATE:20221226
DTEND;VALUE=DATE:20221227
DTSTAMP:20260425T121102
CREATED:20220114T200311Z
LAST-MODIFIED:20220114T200311Z
UID:2775-1672012800-1672099199@springlakehts.com
SUMMARY:Holiday - Offices Closed
DESCRIPTION:Borough Hall and DPW Yard Closed
URL:https://springlakehts.com/event/holiday-offices-closed-9/
LOCATION:Municipal Building\, 555 Brighton Avenue\, Sprink Lake Heights\, NJ\, United States
CATEGORIES:General Events
END:VEVENT
BEGIN:VEVENT
DTSTART;VALUE=DATE:20221223
DTEND;VALUE=DATE:20221224
DTSTAMP:20260425T121102
CREATED:20220114T200359Z
LAST-MODIFIED:20220114T200359Z
UID:2777-1671753600-1671839999@springlakehts.com
SUMMARY:Holiday - Offices Closed
DESCRIPTION:Borough Hall and DPW Yard Closed
URL:https://springlakehts.com/event/holiday-offices-closed-10/
LOCATION:Municipal Building\, 555 Brighton Avenue\, Sprink Lake Heights\, NJ\, United States
CATEGORIES:General Events
END:VEVENT
BEGIN:VEVENT
DTSTART;TZID=America/New_York:20221219T190000
DTEND;TZID=America/New_York:20221219T190000
DTSTAMP:20260425T121102
CREATED:20220114T191230Z
LAST-MODIFIED:20220114T191230Z
UID:2709-1671476400-1671476400@springlakehts.com
SUMMARY:Borough Council Meeting
DESCRIPTION:
URL:https://springlakehts.com/event/borough-council-meeting-19/
LOCATION:Municipal Building\, 555 Brighton Avenue\, Sprink Lake Heights\, NJ\, United States
CATEGORIES:Borough Council Meetings
END:VEVENT
BEGIN:VEVENT
DTSTART;TZID=America/New_York:20221214T190000
DTEND;TZID=America/New_York:20221214T190000
DTSTAMP:20260425T121102
CREATED:20220114T194417Z
LAST-MODIFIED:20220114T194417Z
UID:2755-1671044400-1671044400@springlakehts.com
SUMMARY:Planning Board Meeting
DESCRIPTION:
URL:https://springlakehts.com/event/planning-board-meeting-24/
LOCATION:To Be Determined
CATEGORIES:Land Use Board
END:VEVENT
BEGIN:VEVENT
DTSTART;TZID=America/New_York:20221201T190000
DTEND;TZID=America/New_York:20221201T200000
DTSTAMP:20260425T121102
CREATED:20221114T170736Z
LAST-MODIFIED:20221114T170736Z
UID:4017-1669921200-1669924800@springlakehts.com
SUMMARY:Tree Lighting
DESCRIPTION:
URL:https://springlakehts.com/event/tree-lighting/
LOCATION:Municipal Building\, 555 Brighton Avenue\, Sprink Lake Heights\, NJ\, United States
CATEGORIES:General Events
END:VEVENT
BEGIN:VEVENT
DTSTART;VALUE=DATE:20221124
DTEND;VALUE=DATE:20221126
DTSTAMP:20260425T121102
CREATED:20220114T200144Z
LAST-MODIFIED:20221122T212815Z
UID:2773-1669248000-1669420799@springlakehts.com
SUMMARY:Holiday - Offices Closed
DESCRIPTION:In observation of the holiday… \n\nBorough Hall will be closing at 2:00pm on Wednesday 11/23/2022\nBorough Hall and the Public Works Yard will be closed Thursday 11/24/2022 and Friday 11/25/2022.\n\nHappy Thanksgiving!\n *Gobble Gobble* 
URL:https://springlakehts.com/event/holiday-offices-closed-8/
LOCATION:Municipal Building\, 555 Brighton Avenue\, Sprink Lake Heights\, NJ\, United States
CATEGORIES:General Events
END:VEVENT
BEGIN:VEVENT
DTSTART;TZID=America/New_York:20221123T140000
DTEND;TZID=America/New_York:20221123T163000
DTSTAMP:20260425T121102
CREATED:20221122T212326Z
LAST-MODIFIED:20221122T212549Z
UID:4053-1669212000-1669221000@springlakehts.com
SUMMARY:Borough Hall Closing at 2:00pm
DESCRIPTION:
URL:https://springlakehts.com/event/borough-hall-closing-at-200pm/
LOCATION:Municipal Building\, 555 Brighton Avenue\, Sprink Lake Heights\, NJ\, United States
CATEGORIES:General Events
END:VEVENT
BEGIN:VEVENT
DTSTART;TZID=America/New_York:20221121T190000
DTEND;TZID=America/New_York:20221121T190000
DTSTAMP:20260425T121102
CREATED:20220114T191148Z
LAST-MODIFIED:20220114T191148Z
UID:2707-1669057200-1669057200@springlakehts.com
SUMMARY:Borough Council Meeting
DESCRIPTION:
URL:https://springlakehts.com/event/borough-council-meeting-18/
LOCATION:Municipal Building\, 555 Brighton Avenue\, Sprink Lake Heights\, NJ\, United States
CATEGORIES:Borough Council Meetings
END:VEVENT
BEGIN:VEVENT
DTSTART;TZID=America/New_York:20221109T190000
DTEND;TZID=America/New_York:20221109T190000
DTSTAMP:20260425T121102
CREATED:20220114T193555Z
LAST-MODIFIED:20220114T193555Z
UID:2753-1668020400-1668020400@springlakehts.com
SUMMARY:Planning Board Meeting
DESCRIPTION:
URL:https://springlakehts.com/event/planning-board-meeting-23/
LOCATION:To Be Determined
CATEGORIES:Land Use Board
END:VEVENT
BEGIN:VEVENT
DTSTART;VALUE=DATE:20221028
DTEND;VALUE=DATE:20221031
DTSTAMP:20260425T121102
CREATED:20220926T150833Z
LAST-MODIFIED:20220926T150833Z
UID:3782-1666915200-1667174399@springlakehts.com
SUMMARY:Spring Lake Heights Fall Festival
DESCRIPTION:https://springlakehts.com/spring-lake-heights-fall-festival/
URL:https://springlakehts.com/event/spring-lake-heights-fall-festival/
LOCATION:Joseph E. Robertson Park (Allaire Rd)\, 1100 Allaire Rd\, Spring Lake Heights\, NJ\, 07762\, United States
CATEGORIES:General Events
END:VEVENT
BEGIN:VEVENT
DTSTART;TZID=America/New_York:20221019T190000
DTEND;TZID=America/New_York:20221019T190000
DTSTAMP:20260425T121102
CREATED:20220114T193340Z
LAST-MODIFIED:20220114T193340Z
UID:2749-1666206000-1666206000@springlakehts.com
SUMMARY:Planning Board Meeting
DESCRIPTION:
URL:https://springlakehts.com/event/planning-board-meeting-21/
LOCATION:To Be Determined
CATEGORIES:Land Use Board
END:VEVENT
BEGIN:VEVENT
DTSTART;TZID=America/New_York:20221018T180000
DTEND;TZID=America/New_York:20221018T180000
DTSTAMP:20260425T121102
CREATED:20220128T165042Z
LAST-MODIFIED:20220128T165042Z
UID:2828-1666116000-1666116000@springlakehts.com
SUMMARY:Board of Health Meeting
DESCRIPTION:
URL:https://springlakehts.com/event/board-of-health-meeting-4/
LOCATION:To Be Determined
CATEGORIES:Board of Health
END:VEVENT
BEGIN:VEVENT
DTSTART;TZID=America/New_York:20221017T190000
DTEND;TZID=America/New_York:20221017T190000
DTSTAMP:20260425T121102
CREATED:20220114T191045Z
LAST-MODIFIED:20220114T191045Z
UID:2705-1666033200-1666033200@springlakehts.com
SUMMARY:Borough Council Meeting
DESCRIPTION:
URL:https://springlakehts.com/event/borough-council-meeting-17/
LOCATION:Municipal Building\, 555 Brighton Avenue\, Sprink Lake Heights\, NJ\, United States
CATEGORIES:Borough Council Meetings
END:VEVENT
BEGIN:VEVENT
DTSTART;TZID=America/New_York:20221012T190000
DTEND;TZID=America/New_York:20221012T190000
DTSTAMP:20260425T121102
CREATED:20220114T193257Z
LAST-MODIFIED:20220114T193257Z
UID:2747-1665601200-1665601200@springlakehts.com
SUMMARY:Planning Board Meeting
DESCRIPTION:
URL:https://springlakehts.com/event/planning-board-meeting-20/
LOCATION:To Be Determined
CATEGORIES:Land Use Board
END:VEVENT
BEGIN:VEVENT
DTSTART;VALUE=DATE:20221010
DTEND;VALUE=DATE:20221011
DTSTAMP:20260425T121102
CREATED:20220927T162133Z
LAST-MODIFIED:20220927T162133Z
UID:3797-1665360000-1665446399@springlakehts.com
SUMMARY:Environmental Commission Meeting Cancelled
DESCRIPTION:
URL:https://springlakehts.com/event/environmental-commission-meeting-cancelled-2/
LOCATION:NJ
CATEGORIES:Environmental Commission
END:VEVENT
BEGIN:VEVENT
DTSTART;VALUE=DATE:20221010
DTEND;VALUE=DATE:20221011
DTSTAMP:20260425T121102
CREATED:20220114T200037Z
LAST-MODIFIED:20220114T200037Z
UID:2771-1665360000-1665446399@springlakehts.com
SUMMARY:Holiday - Offices Closed
DESCRIPTION:Borough Hall and DPW Yard Closed
URL:https://springlakehts.com/event/holiday-offices-closed-7/
LOCATION:Municipal Building\, 555 Brighton Avenue\, Sprink Lake Heights\, NJ\, United States
CATEGORIES:General Events
END:VEVENT
BEGIN:VEVENT
DTSTART;TZID=America/New_York:20221003T190000
DTEND;TZID=America/New_York:20221003T190000
DTSTAMP:20260425T121102
CREATED:20220114T191003Z
LAST-MODIFIED:20220114T191003Z
UID:2703-1664823600-1664823600@springlakehts.com
SUMMARY:Borough Council Meeting
DESCRIPTION:
URL:https://springlakehts.com/event/borough-council-meeting-16/
LOCATION:Municipal Building\, 555 Brighton Avenue\, Sprink Lake Heights\, NJ\, United States
CATEGORIES:Borough Council Meetings
END:VEVENT
BEGIN:VEVENT
DTSTART;TZID=America/New_York:20220926T190000
DTEND;TZID=America/New_York:20220930T040000
DTSTAMP:20260425T121102
CREATED:20220926T151145Z
LAST-MODIFIED:20220926T151252Z
UID:3786-1664218800-1664510400@springlakehts.com
SUMMARY:Water Main & Hydrant Flushing
DESCRIPTION:
URL:https://springlakehts.com/event/water-main-hydrant-flushing-4/
LOCATION:Spring Lake Heights
CATEGORIES:General Events
END:VEVENT
BEGIN:VEVENT
DTSTART;TZID=America/New_York:20220921T190000
DTEND;TZID=America/New_York:20220921T190000
DTSTAMP:20260425T121102
CREATED:20220114T193218Z
LAST-MODIFIED:20220114T193218Z
UID:2745-1663786800-1663786800@springlakehts.com
SUMMARY:Planning Board Meeting
DESCRIPTION:
URL:https://springlakehts.com/event/planning-board-meeting-19/
LOCATION:To Be Determined
CATEGORIES:Land Use Board
END:VEVENT
BEGIN:VEVENT
DTSTART;TZID=America/New_York:20220919T190000
DTEND;TZID=America/New_York:20220923T040000
DTSTAMP:20260425T121102
CREATED:20220926T151009Z
LAST-MODIFIED:20220926T151314Z
UID:3784-1663614000-1663905600@springlakehts.com
SUMMARY:Water Main & Hydrant Flushing
DESCRIPTION:
URL:https://springlakehts.com/event/water-main-hydrant-flushing-3/
LOCATION:Spring Lake Heights
CATEGORIES:General Events
END:VEVENT
BEGIN:VEVENT
DTSTART;TZID=America/New_York:20220919T190000
DTEND;TZID=America/New_York:20220919T190000
DTSTAMP:20260425T121102
CREATED:20220114T190837Z
LAST-MODIFIED:20220114T190837Z
UID:2701-1663614000-1663614000@springlakehts.com
SUMMARY:Borough Council Meeting
DESCRIPTION:
URL:https://springlakehts.com/event/borough-council-meeting-15/
LOCATION:Municipal Building\, 555 Brighton Avenue\, Sprink Lake Heights\, NJ\, United States
CATEGORIES:Borough Council Meetings
END:VEVENT
BEGIN:VEVENT
DTSTART;TZID=America/New_York:20220914T190000
DTEND;TZID=America/New_York:20220914T190000
DTSTAMP:20260425T121102
CREATED:20220114T193145Z
LAST-MODIFIED:20220114T193145Z
UID:2743-1663182000-1663182000@springlakehts.com
SUMMARY:Planning Board Meeting
DESCRIPTION:
URL:https://springlakehts.com/event/planning-board-meeting-18/
LOCATION:To Be Determined
CATEGORIES:Land Use Board
END:VEVENT
BEGIN:VEVENT
DTSTART;TZID=America/New_York:20220911T110000
DTEND;TZID=America/New_York:20220911T120000
DTSTAMP:20260425T121102
CREATED:20220907T194613Z
LAST-MODIFIED:20220907T194613Z
UID:3682-1662894000-1662897600@springlakehts.com
SUMMARY:9/11 Ceremony
DESCRIPTION:
URL:https://springlakehts.com/event/9-11-ceremony/
LOCATION:Municipal Building\, 555 Brighton Avenue\, Sprink Lake Heights\, NJ\, United States
CATEGORIES:General Events
END:VEVENT
BEGIN:VEVENT
DTSTART;TZID=America/New_York:20220906T190000
DTEND;TZID=America/New_York:20220906T190000
DTSTAMP:20260425T121102
CREATED:20220114T190510Z
LAST-MODIFIED:20220114T190510Z
UID:2699-1662490800-1662490800@springlakehts.com
SUMMARY:Borough Council Meeting
DESCRIPTION:
URL:https://springlakehts.com/event/borough-council-meeting-14/
LOCATION:Municipal Building\, 555 Brighton Avenue\, Sprink Lake Heights\, NJ\, United States
CATEGORIES:Borough Council Meetings
END:VEVENT
BEGIN:VEVENT
DTSTART;VALUE=DATE:20220905
DTEND;VALUE=DATE:20220906
DTSTAMP:20260425T121102
CREATED:20220114T195701Z
LAST-MODIFIED:20220114T195701Z
UID:2769-1662336000-1662422399@springlakehts.com
SUMMARY:Holiday - Offices Closed
DESCRIPTION:Borough Hall and DPW Yard Closed
URL:https://springlakehts.com/event/holiday-offices-closed-6/
LOCATION:Municipal Building\, 555 Brighton Avenue\, Sprink Lake Heights\, NJ\, United States
CATEGORIES:General Events
END:VEVENT
BEGIN:VEVENT
DTSTART;TZID=America/New_York:20220817T190000
DTEND;TZID=America/New_York:20220817T190000
DTSTAMP:20260425T121102
CREATED:20220114T193106Z
LAST-MODIFIED:20220817T182912Z
UID:2741-1660762800-1660762800@springlakehts.com
SUMMARY:Planning Board Meeting - Cancelled
DESCRIPTION:
URL:https://springlakehts.com/event/planning-board-meeting-17/
LOCATION:To Be Determined
CATEGORIES:Land Use Board
END:VEVENT
BEGIN:VEVENT
DTSTART;TZID=America/New_York:20220815T190000
DTEND;TZID=America/New_York:20220815T190000
DTSTAMP:20260425T121102
CREATED:20220114T190402Z
LAST-MODIFIED:20220114T190402Z
UID:2697-1660590000-1660590000@springlakehts.com
SUMMARY:Borough Council Meeting
DESCRIPTION:
URL:https://springlakehts.com/event/borough-council-meeting-13/
LOCATION:Municipal Building\, 555 Brighton Avenue\, Sprink Lake Heights\, NJ\, United States
CATEGORIES:Borough Council Meetings
END:VEVENT
END:VCALENDAR