BEGIN:VCALENDAR
VERSION:2.0
PRODID:-//Spring Lake Heights New Jersey - ECPv6.15.3//NONSGML v1.0//EN
CALSCALE:GREGORIAN
METHOD:PUBLISH
X-WR-CALNAME:Spring Lake Heights New Jersey
X-ORIGINAL-URL:https://springlakehts.com
X-WR-CALDESC:Events for Spring Lake Heights New Jersey
REFRESH-INTERVAL;VALUE=DURATION:PT1H
X-Robots-Tag:noindex
X-PUBLISHED-TTL:PT1H
BEGIN:VTIMEZONE
TZID:America/New_York
BEGIN:DAYLIGHT
TZOFFSETFROM:-0500
TZOFFSETTO:-0400
TZNAME:EDT
DTSTART:20220313T070000
END:DAYLIGHT
BEGIN:STANDARD
TZOFFSETFROM:-0400
TZOFFSETTO:-0500
TZNAME:EST
DTSTART:20221106T060000
END:STANDARD
END:VTIMEZONE
BEGIN:VTIMEZONE
TZID:UTC
BEGIN:STANDARD
TZOFFSETFROM:+0000
TZOFFSETTO:+0000
TZNAME:UTC
DTSTART:20220101T000000
END:STANDARD
END:VTIMEZONE
BEGIN:VEVENT
DTSTART;TZID=America/New_York:20220516T190000
DTEND;TZID=America/New_York:20220516T190000
DTSTAMP:20260425T213712
CREATED:20220114T190018Z
LAST-MODIFIED:20220114T190018Z
UID:2689-1652727600-1652727600@springlakehts.com
SUMMARY:Borough Council Meeting
DESCRIPTION:
URL:https://springlakehts.com/event/borough-council-meeting-9/
LOCATION:Municipal Building\, 555 Brighton Avenue\, Sprink Lake Heights\, NJ\, United States
CATEGORIES:Borough Council Meetings
END:VEVENT
BEGIN:VEVENT
DTSTART;TZID=America/New_York:20220511T190000
DTEND;TZID=America/New_York:20220511T190000
DTSTAMP:20260425T213712
CREATED:20220114T192421Z
LAST-MODIFIED:20220426T171100Z
UID:2725-1652295600-1652295600@springlakehts.com
SUMMARY:Planning Board Meeting - Cancelled
DESCRIPTION:
URL:https://springlakehts.com/event/planning-board-meeting-9/
LOCATION:To Be Determined
CATEGORIES:Land Use Board
END:VEVENT
BEGIN:VEVENT
DTSTART;TZID=America/New_York:20220502T190000
DTEND;TZID=America/New_York:20220502T190000
DTSTAMP:20260425T213712
CREATED:20220114T185928Z
LAST-MODIFIED:20220426T170927Z
UID:2687-1651518000-1651518000@springlakehts.com
SUMMARY:Borough Council Meeting - Cancelled
DESCRIPTION:
URL:https://springlakehts.com/event/borough-council-meeting-8/
LOCATION:Municipal Building\, 555 Brighton Avenue\, Sprink Lake Heights\, NJ\, United States
CATEGORIES:Borough Council Meetings
END:VEVENT
BEGIN:VEVENT
DTSTART;TZID=America/New_York:20220426T180000
DTEND;TZID=America/New_York:20220426T180000
DTSTAMP:20260425T213712
CREATED:20220128T164631Z
LAST-MODIFIED:20220128T164631Z
UID:2824-1650996000-1650996000@springlakehts.com
SUMMARY:Board of Health Meeting
DESCRIPTION:
URL:https://springlakehts.com/event/board-of-health-meeting-2/
LOCATION:To Be Determined
CATEGORIES:Board of Health
END:VEVENT
BEGIN:VEVENT
DTSTART;TZID=America/New_York:20220425T190000
DTEND;TZID=America/New_York:20220429T233000
DTSTAMP:20260425T213712
CREATED:20220325T201822Z
LAST-MODIFIED:20220325T201822Z
UID:3099-1650913200-1651275000@springlakehts.com
SUMMARY:Water Main & Hydrant Flushing
DESCRIPTION:
URL:https://springlakehts.com/event/water-main-hydrant-flushing-2/
LOCATION:NJ
CATEGORIES:General Events
END:VEVENT
BEGIN:VEVENT
DTSTART;TZID=America/New_York:20220420T190000
DTEND;TZID=America/New_York:20220420T190000
DTSTAMP:20260425T213712
CREATED:20220114T192322Z
LAST-MODIFIED:20220114T192322Z
UID:2723-1650481200-1650481200@springlakehts.com
SUMMARY:Planning Board Meeting
DESCRIPTION:
URL:https://springlakehts.com/event/planning-board-meeting-8/
LOCATION:To Be Determined
CATEGORIES:Land Use Board
END:VEVENT
BEGIN:VEVENT
DTSTART;TZID=America/New_York:20220420T150000
DTEND;TZID=America/New_York:20220420T160000
DTSTAMP:20260425T213712
CREATED:20220406T143714Z
LAST-MODIFIED:20220406T145031Z
UID:3173-1650466800-1650470400@springlakehts.com
SUMMARY:2022 Budget Workshop
DESCRIPTION:The Borough of Spring Lake Heights will conduct an informal online budget presentation on Wednesday April 20\, 2022 @ 3pm to review the proposed budget with any interested parties. This is an opportunity for residents to better understand the budget process along with asking any questions they have regarding the spending plan.\n\n\n  2022 Spring Lake Heights Budget Workshop \nPlease join my meeting from your computer\, tablet or smartphone.\nhttps://meet.goto.com/331022077 \nYou can also dial in using your phone.\nUnited States (Toll Free): 1 866 899 4679\nUnited States: +1 (571) 317-3116 \nAccess Code: 331-022-077 \nGet the app now and be ready when your first meeting starts: https://meet.goto.com/install
URL:https://springlakehts.com/event/2022-spring-lake-heights-budget-workshop/
LOCATION:Virtual
CATEGORIES:General Events
END:VEVENT
BEGIN:VEVENT
DTSTART;TZID=America/New_York:20220418T190000
DTEND;TZID=America/New_York:20220422T190000
DTSTAMP:20260425T213712
CREATED:20220325T201435Z
LAST-MODIFIED:20220325T201435Z
UID:3097-1650308400-1650654000@springlakehts.com
SUMMARY:Water Main & Hydrant Flushing
DESCRIPTION:
URL:https://springlakehts.com/event/water-main-hydrant-flushing/
LOCATION:Spring Lake Heights
CATEGORIES:General Events
END:VEVENT
BEGIN:VEVENT
DTSTART;TZID=America/New_York:20220418T190000
DTEND;TZID=America/New_York:20220418T190000
DTSTAMP:20260425T213712
CREATED:20220114T185701Z
LAST-MODIFIED:20220114T185701Z
UID:2685-1650308400-1650308400@springlakehts.com
SUMMARY:Borough Council Meeting
DESCRIPTION:
URL:https://springlakehts.com/event/borough-council-meeting-7/
LOCATION:Municipal Building\, 555 Brighton Avenue\, Sprink Lake Heights\, NJ\, United States
CATEGORIES:Borough Council Meetings
END:VEVENT
BEGIN:VEVENT
DTSTART;TZID=America/New_York:20220416T120000
DTEND;TZID=America/New_York:20220416T130000
DTSTAMP:20260425T213712
CREATED:20220304T170255Z
LAST-MODIFIED:20220328T133952Z
UID:2981-1650110400-1650114000@springlakehts.com
SUMMARY:Easter Egg Hunt
DESCRIPTION:Easter Egg Hunt (pdf)
URL:https://springlakehts.com/event/easter-egg-hunt/
LOCATION:Joseph E. Robertson Park (Allaire Rd)\, 1100 Allaire Rd\, Spring Lake Heights\, NJ\, 07762\, United States
CATEGORIES:General Events
END:VEVENT
BEGIN:VEVENT
DTSTART;VALUE=DATE:20220415
DTEND;VALUE=DATE:20220416
DTSTAMP:20260425T213712
CREATED:20220114T195356Z
LAST-MODIFIED:20220114T195356Z
UID:2763-1649980800-1650067199@springlakehts.com
SUMMARY:Holiday - Offices Closed
DESCRIPTION:Borough Hall and DPW Yard Closed
URL:https://springlakehts.com/event/holiday-offices-closed-3/
LOCATION:Municipal Building\, 555 Brighton Avenue\, Sprink Lake Heights\, NJ\, United States
CATEGORIES:General Events
END:VEVENT
BEGIN:VEVENT
DTSTART;TZID=America/New_York:20220413T190000
DTEND;TZID=America/New_York:20220413T190000
DTSTAMP:20260425T213712
CREATED:20220114T192239Z
LAST-MODIFIED:20220114T192239Z
UID:2721-1649876400-1649876400@springlakehts.com
SUMMARY:Planning Board Meeting
DESCRIPTION:
URL:https://springlakehts.com/event/planning-board-meeting-7/
LOCATION:To Be Determined
CATEGORIES:Land Use Board
END:VEVENT
BEGIN:VEVENT
DTSTART;TZID=America/New_York:20220404T190000
DTEND;TZID=America/New_York:20220404T190000
DTSTAMP:20260425T213712
CREATED:20220114T185615Z
LAST-MODIFIED:20220114T185615Z
UID:2683-1649098800-1649098800@springlakehts.com
SUMMARY:Borough Council Meeting
DESCRIPTION:
URL:https://springlakehts.com/event/borough-council-meeting-6/
LOCATION:Municipal Building\, 555 Brighton Avenue\, Sprink Lake Heights\, NJ\, United States
CATEGORIES:Borough Council Meetings
END:VEVENT
BEGIN:VEVENT
DTSTART;TZID=America/New_York:20220321T190000
DTEND;TZID=America/New_York:20220321T190000
DTSTAMP:20260425T213712
CREATED:20220114T185531Z
LAST-MODIFIED:20220114T185531Z
UID:2681-1647889200-1647889200@springlakehts.com
SUMMARY:Borough Council Meeting
DESCRIPTION:
URL:https://springlakehts.com/event/borough-council-meeting-5/
LOCATION:Municipal Building\, 555 Brighton Avenue\, Sprink Lake Heights\, NJ\, United States
CATEGORIES:Borough Council Meetings
END:VEVENT
BEGIN:VEVENT
DTSTART;TZID=America/New_York:20220316T190000
DTEND;TZID=America/New_York:20220316T190000
DTSTAMP:20260425T213712
CREATED:20220114T191511Z
LAST-MODIFIED:20220114T192117Z
UID:2713-1647457200-1647457200@springlakehts.com
SUMMARY:Planning Board Meeting
DESCRIPTION:
URL:https://springlakehts.com/event/planning-board-meeting-6/
LOCATION:To Be Determined
CATEGORIES:Land Use Board
END:VEVENT
BEGIN:VEVENT
DTSTART;VALUE=DATE:20220314
DTEND;VALUE=DATE:20220315
DTSTAMP:20260425T213712
CREATED:20220304T165254Z
LAST-MODIFIED:20220304T165254Z
UID:2970-1647216000-1647302399@springlakehts.com
SUMMARY:Park Bathrooms Open (Weather Permitting)
DESCRIPTION:
URL:https://springlakehts.com/event/park-bathrooms-open-weather-permitting/
LOCATION:Municipal Building\, 555 Brighton Avenue\, Sprink Lake Heights\, NJ\, United States
CATEGORIES:General Events
END:VEVENT
BEGIN:VEVENT
DTSTART;TZID=America/New_York:20220309T190000
DTEND;TZID=America/New_York:20220309T190000
DTSTAMP:20260425T213712
CREATED:20220114T191437Z
LAST-MODIFIED:20220309T210854Z
UID:2711-1646852400-1646852400@springlakehts.com
SUMMARY:Planning Board Meeting - Meeting Cancelled
DESCRIPTION:
URL:https://springlakehts.com/event/planning-board-meeting-5/
LOCATION:To Be Determined
CATEGORIES:Land Use Board
END:VEVENT
BEGIN:VEVENT
DTSTART;TZID=America/New_York:20220307T190000
DTEND;TZID=America/New_York:20220307T190000
DTSTAMP:20260425T213712
CREATED:20220113T214940Z
LAST-MODIFIED:20220113T214940Z
UID:2662-1646679600-1646679600@springlakehts.com
SUMMARY:Borough Council Meeting
DESCRIPTION:
URL:https://springlakehts.com/event/borough-council-meeting-4/
LOCATION:Municipal Building\, 555 Brighton Avenue\, Sprink Lake Heights\, NJ\, United States
CATEGORIES:Borough Council Meetings
END:VEVENT
BEGIN:VEVENT
DTSTART;TZID=UTC:20220222T190000
DTEND;TZID=UTC:20220222T190000
DTSTAMP:20260425T213712
CREATED:20220110T212443Z
LAST-MODIFIED:20220113T214839Z
UID:2625-1645556400-1645556400@springlakehts.com
SUMMARY:Borough Council Meeting
DESCRIPTION:
URL:https://springlakehts.com/event/borough-council-meeting/
LOCATION:Municipal Building\, 555 Brighton Avenue\, Sprink Lake Heights\, NJ\, United States
CATEGORIES:Borough Council Meetings
END:VEVENT
BEGIN:VEVENT
DTSTART;VALUE=DATE:20220221
DTEND;VALUE=DATE:20220222
DTSTAMP:20260425T213712
CREATED:20220114T195141Z
LAST-MODIFIED:20220114T195141Z
UID:2761-1645401600-1645487999@springlakehts.com
SUMMARY:Holiday - Offices Closed
DESCRIPTION:Borough Hall and DPW Yard Closed
URL:https://springlakehts.com/event/holiday-offices-closed-2/
LOCATION:Municipal Building\, 555 Brighton Avenue\, Sprink Lake Heights\, NJ\, United States
CATEGORIES:General Events
END:VEVENT
BEGIN:VEVENT
DTSTART;TZID=America/New_York:20220216T190000
DTEND;TZID=America/New_York:20220216T190000
DTSTAMP:20260425T213712
CREATED:20220113T215129Z
LAST-MODIFIED:20220215T162447Z
UID:2667-1645038000-1645038000@springlakehts.com
SUMMARY:Planning Board Meeting - Meeting Cancelled
DESCRIPTION:
URL:https://springlakehts.com/event/planning-board-meeting-4/
LOCATION:To Be Determined
CATEGORIES:Land Use Board
END:VEVENT
BEGIN:VEVENT
DTSTART;TZID=America/New_York:20220209T190000
DTEND;TZID=America/New_York:20220209T190000
DTSTAMP:20260425T213712
CREATED:20220113T215038Z
LAST-MODIFIED:20220207T145405Z
UID:2665-1644433200-1644433200@springlakehts.com
SUMMARY:Planning Board Meeting - Meeting Cancelled
DESCRIPTION:
URL:https://springlakehts.com/event/planning-board-meeting-3/
LOCATION:To Be Determined
CATEGORIES:Land Use Board
END:VEVENT
BEGIN:VEVENT
DTSTART;TZID=America/New_York:20220207T190000
DTEND;TZID=America/New_York:20220207T190000
DTSTAMP:20260425T213712
CREATED:20220113T214428Z
LAST-MODIFIED:20220113T214428Z
UID:2660-1644260400-1644260400@springlakehts.com
SUMMARY:Borough Council Meeting
DESCRIPTION:
URL:https://springlakehts.com/event/borough-council-meeting-3/
LOCATION:Municipal Building\, 555 Brighton Avenue\, Sprink Lake Heights\, NJ\, United States
CATEGORIES:Borough Council Meetings
END:VEVENT
BEGIN:VEVENT
DTSTART;TZID=America/New_York:20220125T180000
DTEND;TZID=America/New_York:20220125T180000
DTSTAMP:20260425T213712
CREATED:20220114T194643Z
LAST-MODIFIED:20220114T194643Z
UID:2759-1643133600-1643133600@springlakehts.com
SUMMARY:Board of Health Meeting
DESCRIPTION:
URL:https://springlakehts.com/event/board-of-health-meeting/
LOCATION:Municipal Building\, 555 Brighton Avenue\, Sprink Lake Heights\, NJ\, United States
CATEGORIES:Board of Health
END:VEVENT
BEGIN:VEVENT
DTSTART;TZID=America/New_York:20220119T190000
DTEND;TZID=America/New_York:20220119T190000
DTSTAMP:20260425T213712
CREATED:20220113T212250Z
LAST-MODIFIED:20220114T140428Z
UID:2656-1642618800-1642618800@springlakehts.com
SUMMARY:Cancelled - Planning Board Meeting
DESCRIPTION:
URL:https://springlakehts.com/event/planning-board-meeting-2/
LOCATION:Municipal Building\, 555 Brighton Avenue\, Sprink Lake Heights\, NJ\, United States
CATEGORIES:Land Use Board
END:VEVENT
BEGIN:VEVENT
DTSTART;TZID=UTC:20220118T190000
DTEND;TZID=UTC:20220118T190000
DTSTAMP:20260425T213712
CREATED:20220110T212723Z
LAST-MODIFIED:20220111T151756Z
UID:2629-1642532400-1642532400@springlakehts.com
SUMMARY:Borough Council Meeting
DESCRIPTION:
URL:https://springlakehts.com/event/borough-council-meeting-2/
LOCATION:Municipal Building\, 555 Brighton Avenue\, Sprink Lake Heights\, NJ\, United States
CATEGORIES:Borough Council Meetings
END:VEVENT
BEGIN:VEVENT
DTSTART;VALUE=DATE:20220117
DTEND;VALUE=DATE:20220118
DTSTAMP:20260425T213712
CREATED:20220113T212443Z
LAST-MODIFIED:20220113T212443Z
UID:2649-1642377600-1642463999@springlakehts.com
SUMMARY:Holiday - Offices Closed
DESCRIPTION:Borough Hall and DPW Yard Closed
URL:https://springlakehts.com/event/holiday-offices-closed/
LOCATION:Municipal Building\, 555 Brighton Avenue\, Sprink Lake Heights\, NJ\, United States
CATEGORIES:General Events
END:VEVENT
BEGIN:VEVENT
DTSTART;TZID=America/New_York:20220112T190000
DTEND;TZID=America/New_York:20220112T190000
DTSTAMP:20260425T213712
CREATED:20220113T211645Z
LAST-MODIFIED:20220113T211645Z
UID:2654-1642014000-1642014000@springlakehts.com
SUMMARY:Planning Board Meeting
DESCRIPTION:
URL:https://springlakehts.com/event/planning-board-meeting/
LOCATION:Municipal Building\, 555 Brighton Avenue\, Sprink Lake Heights\, NJ\, United States
CATEGORIES:Land Use Board
END:VEVENT
BEGIN:VEVENT
DTSTART;TZID=America/New_York:20220103T190000
DTEND;TZID=America/New_York:20220103T190000
DTSTAMP:20260425T213712
CREATED:20220110T175101Z
LAST-MODIFIED:20221228T174403Z
UID:2631-1641236400-1641236400@springlakehts.com
SUMMARY:Borough Council Reorganization Meeting 2022
DESCRIPTION:
URL:https://springlakehts.com/event/borough-council-reorganization-meeting/
LOCATION:Municipal Building\, 555 Brighton Avenue\, Sprink Lake Heights\, NJ\, United States
CATEGORIES:Borough Council Meetings
END:VEVENT
END:VCALENDAR