BEGIN:VCALENDAR
VERSION:2.0
PRODID:-//Spring Lake Heights New Jersey - ECPv6.15.3//NONSGML v1.0//EN
CALSCALE:GREGORIAN
METHOD:PUBLISH
X-WR-CALNAME:Spring Lake Heights New Jersey
X-ORIGINAL-URL:https://springlakehts.com
X-WR-CALDESC:Events for Spring Lake Heights New Jersey
REFRESH-INTERVAL;VALUE=DURATION:PT1H
X-Robots-Tag:noindex
X-PUBLISHED-TTL:PT1H
BEGIN:VTIMEZONE
TZID:America/New_York
BEGIN:DAYLIGHT
TZOFFSETFROM:-0500
TZOFFSETTO:-0400
TZNAME:EDT
DTSTART:20240310T070000
END:DAYLIGHT
BEGIN:STANDARD
TZOFFSETFROM:-0400
TZOFFSETTO:-0500
TZNAME:EST
DTSTART:20241103T060000
END:STANDARD
BEGIN:DAYLIGHT
TZOFFSETFROM:-0500
TZOFFSETTO:-0400
TZNAME:EDT
DTSTART:20250309T070000
END:DAYLIGHT
BEGIN:STANDARD
TZOFFSETFROM:-0400
TZOFFSETTO:-0500
TZNAME:EST
DTSTART:20251102T060000
END:STANDARD
END:VTIMEZONE
BEGIN:VEVENT
DTSTART;TZID=America/New_York:20250519T190000
DTEND;TZID=America/New_York:20250519T190000
DTSTAMP:20260425T065540
CREATED:20250110T195147Z
LAST-MODIFIED:20250110T195147Z
UID:6565-1747681200-1747681200@springlakehts.com
SUMMARY:Borough Council Meeting
DESCRIPTION:
URL:https://springlakehts.com/event/borough-council-meeting-65/
LOCATION:Municipal Building\, 555 Brighton Avenue\, Sprink Lake Heights\, NJ\, United States
CATEGORIES:Borough Council Meetings
END:VEVENT
BEGIN:VEVENT
DTSTART;TZID=America/New_York:20250517T090000
DTEND;TZID=America/New_York:20250517T150000
DTSTAMP:20260425T065540
CREATED:20250314T163444Z
LAST-MODIFIED:20250314T163444Z
UID:6820-1747472400-1747494000@springlakehts.com
SUMMARY:Townwide Yard Sale
DESCRIPTION:
URL:https://springlakehts.com/event/townwide-yard-sale/
LOCATION:NJ
CATEGORIES:General Events
END:VEVENT
BEGIN:VEVENT
DTSTART;TZID=America/New_York:20250514T190000
DTEND;TZID=America/New_York:20250514T190000
DTSTAMP:20260425T065540
CREATED:20250117T195822Z
LAST-MODIFIED:20250117T195822Z
UID:6643-1747249200-1747249200@springlakehts.com
SUMMARY:Land Use Board Meeting
DESCRIPTION:
URL:https://springlakehts.com/event/land-use-board-meeting-47/
LOCATION:Municipal Building\, 555 Brighton Avenue\, Sprink Lake Heights\, NJ\, United States
CATEGORIES:Land Use Board
END:VEVENT
BEGIN:VEVENT
DTSTART;TZID=America/New_York:20250505T190000
DTEND;TZID=America/New_York:20250505T190000
DTSTAMP:20260425T065540
CREATED:20250110T194610Z
LAST-MODIFIED:20250110T194610Z
UID:6563-1746471600-1746471600@springlakehts.com
SUMMARY:Borough Council Meeting
DESCRIPTION:
URL:https://springlakehts.com/event/borough-council-meeting-64/
LOCATION:Municipal Building\, 555 Brighton Avenue\, Sprink Lake Heights\, NJ\, United States
CATEGORIES:Borough Council Meetings
END:VEVENT
BEGIN:VEVENT
DTSTART;TZID=America/New_York:20250421T190000
DTEND;TZID=America/New_York:20250425T040000
DTSTAMP:20260425T065540
CREATED:20250321T144930Z
LAST-MODIFIED:20250321T144930Z
UID:6854-1745262000-1745553600@springlakehts.com
SUMMARY:Water Main & Hydrant Flushing (M-F 7:00pm – 4:00am)
DESCRIPTION:
URL:https://springlakehts.com/event/water-main-hydrant-flushing-m-f-700pm-400am-3/
LOCATION:NJ
CATEGORIES:General Events
END:VEVENT
BEGIN:VEVENT
DTSTART;TZID=America/New_York:20250421T190000
DTEND;TZID=America/New_York:20250421T190000
DTSTAMP:20260425T065540
CREATED:20250110T190854Z
LAST-MODIFIED:20250110T190854Z
UID:6561-1745262000-1745262000@springlakehts.com
SUMMARY:Borough Council Meeting
DESCRIPTION:
URL:https://springlakehts.com/event/borough-council-meeting-63/
LOCATION:Municipal Building\, 555 Brighton Avenue\, Sprink Lake Heights\, NJ\, United States
CATEGORIES:Borough Council Meetings
END:VEVENT
BEGIN:VEVENT
DTSTART;TZID=America/New_York:20250419T120000
DTEND;TZID=America/New_York:20250419T130000
DTSTAMP:20260425T065540
CREATED:20250321T131923Z
LAST-MODIFIED:20250321T131923Z
UID:6851-1745064000-1745067600@springlakehts.com
SUMMARY:Easter Egg Hunt
DESCRIPTION:
URL:https://springlakehts.com/event/easter-egg-hunt-3/
LOCATION:Joseph E. Robertson Park (Allaire Rd)\, 1100 Allaire Rd\, Spring Lake Heights\, NJ\, 07762\, United States
CATEGORIES:General Events
END:VEVENT
BEGIN:VEVENT
DTSTART;VALUE=DATE:20250418
DTEND;VALUE=DATE:20250419
DTSTAMP:20260425T065540
CREATED:20250110T205709Z
LAST-MODIFIED:20250110T205709Z
UID:6608-1744934400-1745020799@springlakehts.com
SUMMARY:Holiday – Offices Closed
DESCRIPTION:
URL:https://springlakehts.com/event/holiday-offices-closed-39/
LOCATION:NJ
CATEGORIES:General Events
END:VEVENT
BEGIN:VEVENT
DTSTART;TZID=America/New_York:20250416T190000
DTEND;TZID=America/New_York:20250416T190000
DTSTAMP:20260425T065540
CREATED:20250117T194830Z
LAST-MODIFIED:20250117T194830Z
UID:6641-1744830000-1744830000@springlakehts.com
SUMMARY:Land Use Board Meeting
DESCRIPTION:
URL:https://springlakehts.com/event/land-use-board-meeting-46/
LOCATION:Municipal Building\, 555 Brighton Avenue\, Sprink Lake Heights\, NJ\, United States
CATEGORIES:Land Use Board
END:VEVENT
BEGIN:VEVENT
DTSTART;TZID=America/New_York:20250414T190000
DTEND;TZID=America/New_York:20250418T040000
DTSTAMP:20260425T065540
CREATED:20250110T205948Z
LAST-MODIFIED:20250321T144601Z
UID:6610-1744657200-1744948800@springlakehts.com
SUMMARY:Water Main & Hydrant Flushing (M-F 7:00pm - 4:00am)
DESCRIPTION:
URL:https://springlakehts.com/event/water-main-hydrant-flushing-m-f-700pm-400am/
LOCATION:NJ
CATEGORIES:General Events
END:VEVENT
BEGIN:VEVENT
DTSTART;TZID=America/New_York:20250409T190000
DTEND;TZID=America/New_York:20250409T190000
DTSTAMP:20260425T065540
CREATED:20250117T194721Z
LAST-MODIFIED:20250117T194721Z
UID:6639-1744225200-1744225200@springlakehts.com
SUMMARY:Land Use Board Meeting
DESCRIPTION:
URL:https://springlakehts.com/event/land-use-board-meeting-45/
LOCATION:Municipal Building\, 555 Brighton Avenue\, Sprink Lake Heights\, NJ\, United States
CATEGORIES:Land Use Board
END:VEVENT
BEGIN:VEVENT
DTSTART;TZID=America/New_York:20250407T190000
DTEND;TZID=America/New_York:20250407T190000
DTSTAMP:20260425T065540
CREATED:20250110T190806Z
LAST-MODIFIED:20250110T190806Z
UID:6559-1744052400-1744052400@springlakehts.com
SUMMARY:Borough Council Meeting
DESCRIPTION:
URL:https://springlakehts.com/event/borough-council-meeting-62/
LOCATION:Municipal Building\, 555 Brighton Avenue\, Sprink Lake Heights\, NJ\, United States
CATEGORIES:Borough Council Meetings
END:VEVENT
BEGIN:VEVENT
DTSTART;TZID=America/New_York:20250402T130000
DTEND;TZID=America/New_York:20250402T130000
DTSTAMP:20260425T065540
CREATED:20250204T203558Z
LAST-MODIFIED:20250204T203558Z
UID:6733-1743598800-1743598800@springlakehts.com
SUMMARY:New Jersey Property Tax Relief Presentation
DESCRIPTION:
URL:https://springlakehts.com/event/new-jersey-property-tax-relief-presentation/
LOCATION:Cornelius V. Kelly Community Center\, 902 Ocean Rd\, Spring Lake Heights\, NJ\, 07762\, United States
CATEGORIES:General Events
END:VEVENT
BEGIN:VEVENT
DTSTART;TZID=America/New_York:20250319T190000
DTEND;TZID=America/New_York:20250319T190000
DTSTAMP:20260425T065540
CREATED:20250117T194632Z
LAST-MODIFIED:20250319T154050Z
UID:6637-1742410800-1742410800@springlakehts.com
SUMMARY:Land Use Board Meeting - Cancelled
DESCRIPTION:
URL:https://springlakehts.com/event/land-use-board-meeting-44/
LOCATION:Municipal Building\, 555 Brighton Avenue\, Sprink Lake Heights\, NJ\, United States
CATEGORIES:Land Use Board
END:VEVENT
BEGIN:VEVENT
DTSTART;TZID=America/New_York:20250317T190000
DTEND;TZID=America/New_York:20250317T190000
DTSTAMP:20260425T065540
CREATED:20250110T190202Z
LAST-MODIFIED:20250110T190202Z
UID:6557-1742238000-1742238000@springlakehts.com
SUMMARY:Borough Council Meeting
DESCRIPTION:
URL:https://springlakehts.com/event/borough-council-meeting-61/
LOCATION:Municipal Building\, 555 Brighton Avenue\, Sprink Lake Heights\, NJ\, United States
CATEGORIES:Borough Council Meetings
END:VEVENT
BEGIN:VEVENT
DTSTART;TZID=America/New_York:20250312T190000
DTEND;TZID=America/New_York:20250312T190000
DTSTAMP:20260425T065540
CREATED:20250117T194601Z
LAST-MODIFIED:20250117T194601Z
UID:6635-1741806000-1741806000@springlakehts.com
SUMMARY:Land Use Board Meeting
DESCRIPTION:
URL:https://springlakehts.com/event/land-use-board-meeting-43/
LOCATION:Municipal Building\, 555 Brighton Avenue\, Sprink Lake Heights\, NJ\, United States
CATEGORIES:Land Use Board
END:VEVENT
BEGIN:VEVENT
DTSTART;TZID=America/New_York:20250303T190000
DTEND;TZID=America/New_York:20250303T190000
DTSTAMP:20260425T065540
CREATED:20250110T183351Z
LAST-MODIFIED:20250110T183351Z
UID:6553-1741028400-1741028400@springlakehts.com
SUMMARY:Borough Council Meeting
DESCRIPTION:
URL:https://springlakehts.com/event/borough-council-meeting-60/
LOCATION:Municipal Building\, 555 Brighton Avenue\, Sprink Lake Heights\, NJ\, United States
CATEGORIES:Borough Council Meetings
END:VEVENT
BEGIN:VEVENT
DTSTART;TZID=America/New_York:20250219T190000
DTEND;TZID=America/New_York:20250219T190000
DTSTAMP:20260425T065540
CREATED:20250117T194528Z
LAST-MODIFIED:20250131T164855Z
UID:6632-1739991600-1739991600@springlakehts.com
SUMMARY:Land Use Board Meeting
DESCRIPTION:
URL:https://springlakehts.com/event/land-use-board-meeting-42/
LOCATION:Municipal Building\, 555 Brighton Avenue\, Sprink Lake Heights\, NJ\, United States
CATEGORIES:Land Use Board
END:VEVENT
BEGIN:VEVENT
DTSTART;TZID=America/New_York:20250218T190000
DTEND;TZID=America/New_York:20250218T190000
DTSTAMP:20260425T065540
CREATED:20250110T183309Z
LAST-MODIFIED:20250110T183309Z
UID:6551-1739905200-1739905200@springlakehts.com
SUMMARY:Borough Council Meeting
DESCRIPTION:
URL:https://springlakehts.com/event/borough-council-meeting-59/
LOCATION:Municipal Building\, 555 Brighton Avenue\, Sprink Lake Heights\, NJ\, United States
CATEGORIES:Borough Council Meetings
END:VEVENT
BEGIN:VEVENT
DTSTART;VALUE=DATE:20250217
DTEND;VALUE=DATE:20250218
DTSTAMP:20260425T065540
CREATED:20250110T184725Z
LAST-MODIFIED:20250110T184725Z
UID:6555-1739750400-1739836799@springlakehts.com
SUMMARY:Holiday – Offices Closed
DESCRIPTION:
URL:https://springlakehts.com/event/holiday-offices-closed-32/
LOCATION:NJ
CATEGORIES:General Events
END:VEVENT
BEGIN:VEVENT
DTSTART;TZID=America/New_York:20250203T190000
DTEND;TZID=America/New_York:20250203T190000
DTSTAMP:20260425T065540
CREATED:20250110T173007Z
LAST-MODIFIED:20250129T172354Z
UID:6547-1738609200-1738609200@springlakehts.com
SUMMARY:Borough Council Meeting - Cancelled
DESCRIPTION:
URL:https://springlakehts.com/event/borough-council-meeting-58/
LOCATION:Municipal Building\, 555 Brighton Avenue\, Sprink Lake Heights\, NJ\, United States
CATEGORIES:Borough Council Meetings
END:VEVENT
BEGIN:VEVENT
DTSTART;VALUE=DATE:20250203
DTEND;VALUE=DATE:20250208
DTSTAMP:20260425T065540
CREATED:20250131T165443Z
LAST-MODIFIED:20250131T165443Z
UID:6721-1738540800-1738972799@springlakehts.com
SUMMARY:Street Sweeping
DESCRIPTION:This is a message from The Borough of Spring Lake Heights Public Works Department. We will be conducting Street Sweeping operations from February 3 to February 7\, 2025. We kindly request parking vehicles off the streets during this time to facilitate the sweeping process. Thank you for your understanding and anticipated cooperation in making our Borough a more beautiful place!
URL:https://springlakehts.com/event/street-sweeping-2/
LOCATION:Spring Lake Heights
CATEGORIES:General Events
END:VEVENT
BEGIN:VEVENT
DTSTART;TZID=America/New_York:20250130T190000
DTEND;TZID=America/New_York:20250130T190000
DTSTAMP:20260425T065540
CREATED:20250129T172022Z
LAST-MODIFIED:20250129T172022Z
UID:6702-1738263600-1738263600@springlakehts.com
SUMMARY:Special Council Meeting
DESCRIPTION:Meeting Notice 1-30-25
URL:https://springlakehts.com/event/special-council-meeting/
LOCATION:Municipal Building\, 555 Brighton Avenue\, Sprink Lake Heights\, NJ\, United States
CATEGORIES:Borough Council Meetings
END:VEVENT
BEGIN:VEVENT
DTSTART;TZID=America/New_York:20250121T190000
DTEND;TZID=America/New_York:20250121T190000
DTSTAMP:20260425T065540
CREATED:20250110T172657Z
LAST-MODIFIED:20250110T172657Z
UID:6545-1737486000-1737486000@springlakehts.com
SUMMARY:Borough Council Meeting
DESCRIPTION:
URL:https://springlakehts.com/event/borough-council-meeting-57/
LOCATION:Municipal Building\, 555 Brighton Avenue\, Sprink Lake Heights\, NJ\, United States
CATEGORIES:Borough Council Meetings
END:VEVENT
BEGIN:VEVENT
DTSTART;VALUE=DATE:20250120
DTEND;VALUE=DATE:20250121
DTSTAMP:20260425T065540
CREATED:20250110T183039Z
LAST-MODIFIED:20250110T183039Z
UID:6549-1737331200-1737417599@springlakehts.com
SUMMARY:Holiday - Offices Closed
DESCRIPTION:
URL:https://springlakehts.com/event/holiday-offices-closed-31/
LOCATION:NJ
CATEGORIES:General Events
END:VEVENT
BEGIN:VEVENT
DTSTART;TZID=America/New_York:20250115T190000
DTEND;TZID=America/New_York:20250115T190000
DTSTAMP:20260425T065540
CREATED:20240213T191226Z
LAST-MODIFIED:20250110T171842Z
UID:5419-1736967600-1736967600@springlakehts.com
SUMMARY:Land Use Board Meeting - Cancelled
DESCRIPTION:
URL:https://springlakehts.com/event/land-use-board-meeting-41/
LOCATION:Municipal Building\, 555 Brighton Avenue\, Sprink Lake Heights\, NJ\, United States
CATEGORIES:Land Use Board
END:VEVENT
BEGIN:VEVENT
DTSTART;TZID=America/New_York:20250108T190000
DTEND;TZID=America/New_York:20250108T190000
DTSTAMP:20260425T065540
CREATED:20240213T191153Z
LAST-MODIFIED:20240213T191153Z
UID:5417-1736362800-1736362800@springlakehts.com
SUMMARY:Land Use Board Meeting
DESCRIPTION:
URL:https://springlakehts.com/event/land-use-board-meeting-40/
LOCATION:Municipal Building\, 555 Brighton Avenue\, Sprink Lake Heights\, NJ\, United States
CATEGORIES:Land Use Board
END:VEVENT
BEGIN:VEVENT
DTSTART;VALUE=DATE:20250101
DTEND;VALUE=DATE:20250102
DTSTAMP:20260425T065540
CREATED:20240214T180350Z
LAST-MODIFIED:20240214T180350Z
UID:5446-1735689600-1735775999@springlakehts.com
SUMMARY:Holiday - Offices Closed
DESCRIPTION:Borough Hall and DPW Yard Closed
URL:https://springlakehts.com/event/holiday-offices-closed-30/
LOCATION:NJ
CATEGORIES:General Events
END:VEVENT
BEGIN:VEVENT
DTSTART;VALUE=DATE:20241225
DTEND;VALUE=DATE:20241227
DTSTAMP:20260425T065540
CREATED:20240214T180129Z
LAST-MODIFIED:20240214T180129Z
UID:5444-1735084800-1735257599@springlakehts.com
SUMMARY:Holiday - Offices Closed
DESCRIPTION:Borough Hall and DPW Yard Closed
URL:https://springlakehts.com/event/holiday-offices-closed-29/
LOCATION:NJ
CATEGORIES:General Events
END:VEVENT
BEGIN:VEVENT
DTSTART;TZID=America/New_York:20241216T190000
DTEND;TZID=America/New_York:20241216T190000
DTSTAMP:20260425T065540
CREATED:20240213T180737Z
LAST-MODIFIED:20240213T180737Z
UID:5374-1734375600-1734375600@springlakehts.com
SUMMARY:Borough Council Meeting
DESCRIPTION:
URL:https://springlakehts.com/event/borough-council-meeting-55/
LOCATION:Municipal Building\, 555 Brighton Avenue\, Sprink Lake Heights\, NJ\, United States
CATEGORIES:Borough Council Meetings
END:VEVENT
END:VCALENDAR