BEGIN:VCALENDAR
VERSION:2.0
PRODID:-//Spring Lake Heights New Jersey - ECPv6.15.3//NONSGML v1.0//EN
CALSCALE:GREGORIAN
METHOD:PUBLISH
X-ORIGINAL-URL:https://springlakehts.com
X-WR-CALDESC:Events for Spring Lake Heights New Jersey
REFRESH-INTERVAL;VALUE=DURATION:PT1H
X-Robots-Tag:noindex
X-PUBLISHED-TTL:PT1H
BEGIN:VTIMEZONE
TZID:America/New_York
BEGIN:DAYLIGHT
TZOFFSETFROM:-0500
TZOFFSETTO:-0400
TZNAME:EDT
DTSTART:20260308T070000
END:DAYLIGHT
BEGIN:STANDARD
TZOFFSETFROM:-0400
TZOFFSETTO:-0500
TZNAME:EST
DTSTART:20261101T060000
END:STANDARD
END:VTIMEZONE
BEGIN:VEVENT
DTSTART;VALUE=DATE:20260420
DTEND;VALUE=DATE:20260425
DTSTAMP:20260423T120602
CREATED:20260420T154456Z
LAST-MODIFIED:20260420T154456Z
UID:8002-1776643200-1777075199@springlakehts.com
SUMMARY:Hydrant Flushing
DESCRIPTION:
URL:https://springlakehts.com/event/hydrant-flushing-2/
LOCATION:NJ
CATEGORIES:General Events
END:VEVENT
BEGIN:VEVENT
DTSTART;TZID=America/New_York:20260425T090000
DTEND;TZID=America/New_York:20260425T150000
DTSTAMP:20260423T120602
CREATED:20260407T141723Z
LAST-MODIFIED:20260407T141723Z
UID:7953-1777107600-1777129200@springlakehts.com
SUMMARY:Spring Lake Heights Town-wide Garage Sale
DESCRIPTION:
URL:https://springlakehts.com/event/spring-lake-heights-town-wide-garage-sale/
LOCATION:Spring Lake Heights
CATEGORIES:General Events
END:VEVENT
BEGIN:VEVENT
DTSTART;TZID=America/New_York:20260426T120000
DTEND;TZID=America/New_York:20260426T150000
DTSTAMP:20260423T120602
CREATED:20260423T140724Z
LAST-MODIFIED:20260423T140724Z
UID:8041-1777204800-1777215600@springlakehts.com
SUMMARY:Scanning & Collection Day
DESCRIPTION:
URL:https://springlakehts.com/event/scanning-collection-day/
LOCATION:Cornelius V. Kelly Community Center\, 902 Ocean Rd\, Spring Lake Heights\, NJ\, 07762\, United States
CATEGORIES:General Events
END:VEVENT
BEGIN:VEVENT
DTSTART;TZID=America/New_York:20260430T180000
DTEND;TZID=America/New_York:20260430T200000
DTSTAMP:20260423T120602
CREATED:20260423T153512Z
LAST-MODIFIED:20260423T153512Z
UID:8046-1777572000-1777579200@springlakehts.com
SUMMARY:Scanning & Collection Day
DESCRIPTION:
URL:https://springlakehts.com/event/scanning-collection-day-2/
LOCATION:Cornelius V. Kelly Community Center\, 902 Ocean Rd\, Spring Lake Heights\, NJ\, 07762\, United States
CATEGORIES:General Events
END:VEVENT
END:VCALENDAR